BEGIN:VCALENDAR
VERSION:2.0
PRODID:-//ChamberMaster//Event Calendar 2.0//EN
METHOD:PUBLISH
X-PUBLISHED-TTL:P3D
REFRESH-INTERVAL:P3D
CALSCALE:GREGORIAN
BEGIN:VEVENT
DTSTART:20240420T150000Z
DTEND:20240420T210000Z
X-MICROSOFT-CDO-ALLDAYEVENT:FALSE
SUMMARY:Pirates & Princess Extravaganza
DESCRIPTION:Ahoy\, adventurers of all ages! Join us for a day of magic and adventure at the Pirates & Princess Extravaganza\, where dreams come to life and treasure awaits!\n\nEvent Highlights:\n\n?? Meet and Greets\n\n?? Pirate & Princess Scavenger Hunt\n\n?? Themed Photo Ops\n\n??? Vendor Marketplace\n\n?? Pirate & Princess Storytime:\n\n- Time: 1:00pm at B Dalton\n\n- Enjoy a special storytime session with engaging activities and snacks (while supplies last). Set sail on a literary adventure fit for the whole family!\n\n?? Painting with a Princess:\n\n- Time: Starting at 11:00am at Calliope Street\n\n- Join a princess for a magical painting experience! Participants can create beautiful works of art\, engage in playful activities\, and snap photos to remember the day. (Advance reservations strongly encouraged\, there is a fee for this portion of the event)\n\n?? Special Movie Screening:\n\n- Time:11:00am at Regal Oviedo Mall\n\n- Dive into a cinematic adventure with a special showing of Madagascar for just $2 a ticket. Experience the magic of the big screen after a day of excitement!\n\nDon't miss out on this free and inclusive event for the whole family! Set sail with us at Oviedo Mall and immerse yourself in a world of pirates\, princesses\, and endless possibilities. Adventure awaits!
X-ALT-DESC;FMTTYPE=text/html:<p>Ahoy\, adventurers of all ages! Join us for a day of magic and adventure at the Pirates &amp\; Princess Extravaganza\, where dreams come to life and treasure awaits!</p>\n\n<p><span style="color:var(--tw-prose-bold)">Event Highlights:</span></p>\n\n<p>?? <span style="color:var(--tw-prose-bold)">Meet and Greets</span></p>\n\n<p>?? <span style="color:var(--tw-prose-bold)">Pirate &amp\; Princess Scavenger Hunt</span></p>\n\n<p>?? <span style="color:var(--tw-prose-bold)">Themed Photo Ops</span></p>\n\n<p>??? <span style="color:var(--tw-prose-bold)">Vendor Marketplace</span></p>\n\n<p>?? <span style="color:var(--tw-prose-bold)">Pirate &amp\; Princess Storytime:</span><br />\n- <span style="color:var(--tw-prose-bold)">Time:</span> 1:00pm at B Dalton<br />\n- Enjoy a special storytime session with engaging activities and snacks (while supplies last). Set sail on a literary adventure fit for the whole family!</p>\n\n<p>?? <span style="color:var(--tw-prose-bold)">Painting with a Princess:</span><br />\n- <span style="color:var(--tw-prose-bold)">Time:</span> Starting at 11:00am at Calliope Street<br />\n- Join a princess for a magical painting experience! Participants can create beautiful works of art\, engage in playful activities\, and snap photos to remember the day. (Advance reservations strongly encouraged\, there is a fee for this portion of the event)</p>\n\n<p>?? <span style="color:var(--tw-prose-bold)">Special Movie Screening:</span><br />\n- <span style="color:var(--tw-prose-bold)">Time:</span>11:00am at Regal Oviedo Mall<br />\n- Dive into a cinematic adventure with a special showing of Madagascar for just $2 a ticket. Experience the magic of the big screen after a day of excitement!</p>\n\n<p>Don&#39\;t miss out on this free and inclusive event for the whole family! Set sail with us at Oviedo Mall and immerse yourself in a world of pirates\, princesses\, and endless possibilities. Adventure awaits!</p>\n
LOCATION:Oviedo Mall\, 1700 Oviedo Mall Blvd\, Oviedo\, FL 32765
UID:e.1204.44137
SEQUENCE:3
DTSTAMP:20260421T124318Z
URL:https://business.owsrcc.org/events/details/pirates-princess-extravaganza-44137
END:VEVENT

END:VCALENDAR
