BEGIN:VCALENDAR
VERSION:2.0
PRODID:-//ChamberMaster//Event Calendar 2.0//EN
METHOD:PUBLISH
X-PUBLISHED-TTL:P3D
REFRESH-INTERVAL:P3D
CALSCALE:GREGORIAN
BEGIN:VEVENT
DTSTART:20240618T160000Z
DTEND:20240618T160000Z
X-MICROSOFT-CDO-ALLDAYEVENT:FALSE
SUMMARY:OWSopoly Game (Oviedo-WinterSpringsOpoly)
DESCRIPTION:Enjoy game night in a whole new way with our OWSopoly!\n\nFeaturing the cities of Oviedo\, Winter Springs and an array of our amazing businesses.\n\nClick the Register button to purchase your copy of the Limited Edition game.
X-ALT-DESC;FMTTYPE=text/html:Enjoy game night in a whole new way with our OWSopoly!<br />\nFeaturing the cities of Oviedo\, Winter Springs and an array of our amazing businesses.<br />\nClick the Register button to purchase your copy of the Limited Edition game.
LOCATION:Pick up at the Chamber Office 1511 East State Road 434\, Suite 1009 Winter Springs\, FL 32708
UID:e.1204.44120
SEQUENCE:3
DTSTAMP:20260421T043831Z
URL:https://business.owsrcc.org/events/details/owsopoly-06-18-2024-44120
END:VEVENT

END:VCALENDAR
