BEGIN:VCALENDAR
VERSION:2.0
PRODID:-//ChamberMaster//Event Calendar 2.0//EN
METHOD:PUBLISH
X-PUBLISHED-TTL:P3D
REFRESH-INTERVAL:P3D
CALSCALE:GREGORIAN
BEGIN:VEVENT
DTSTART:20250113T163000Z
DTEND:20250113T180000Z
X-MICROSOFT-CDO-ALLDAYEVENT:FALSE
SUMMARY:OWSBA-Oviedo-Winter Springs Business Alliance
DESCRIPTION:OWSBA - Oviedo Winter Springs Business Alliance is our monthly lunchtime networking event with guest speaker opportunities.  This month\, we will meet at Rock & Brews in Oviedo.
X-ALT-DESC;FMTTYPE=text/html:OWSBA - Oviedo Winter Springs Business Alliance is our monthly lunchtime networking event with guest speaker opportunities.&nbsp\; This month\, we will meet at Rock &amp\; Brews in Oviedo.
LOCATION:Rock & Brews 7131 Red Bug Lake Rd.\, Oviedo
UID:e.1204.45090
SEQUENCE:3
DTSTAMP:20260421T044230Z
URL:https://business.owsrcc.org/events/details/owsba-oviedo-winter-springs-business-alliance-45090
END:VEVENT

END:VCALENDAR
