BEGIN:VCALENDAR
VERSION:2.0
PRODID:-//ChamberMaster//Event Calendar 2.0//EN
METHOD:PUBLISH
X-PUBLISHED-TTL:P3D
REFRESH-INTERVAL:P3D
CALSCALE:GREGORIAN
BEGIN:VEVENT
DTSTART:20240610T153000Z
DTEND:20240610T170000Z
X-MICROSOFT-CDO-ALLDAYEVENT:FALSE
SUMMARY:OWSBA-Oviedo-Winter Springs Business Alliance
DESCRIPTION:OWSBA - Oviedo Winter Springs Business Alliance is our monthly lunchtime networking event with guest speaker opportunities.  This month we are at Marlow's Tavern in Oviedo!
X-ALT-DESC;FMTTYPE=text/html:OWSBA - Oviedo Winter Springs Business Alliance is our monthly lunchtime networking event with guest speaker opportunities.&nbsp\; This month we are at Marlow&#39\;s Tavern in Oviedo!
LOCATION:Marlow's Tavern 352 Mike Roberto Way\, Oviedo at Oviedo on the Park
UID:e.1204.44103
SEQUENCE:3
DTSTAMP:20260421T044231Z
URL:https://business.owsrcc.org/events/details/owsba-oviedo-winter-springs-business-alliance-44103
END:VEVENT

END:VCALENDAR
