BEGIN:VCALENDAR
VERSION:2.0
PRODID:-//ChamberMaster//Event Calendar 2.0//EN
METHOD:PUBLISH
X-PUBLISHED-TTL:P3D
REFRESH-INTERVAL:P3D
CALSCALE:GREGORIAN
BEGIN:VEVENT
DTSTART:20240513T153000Z
DTEND:20240513T170000Z
X-MICROSOFT-CDO-ALLDAYEVENT:FALSE
SUMMARY:OWSBA-Oviedo-Winter Springs Business Alliance
DESCRIPTION:OWSBA is our monthly lunchtime networking event held on the second Monday of each month.  This month we will be hosted by Sonny's BBQ in Oviedo!
X-ALT-DESC;FMTTYPE=text/html:OWSBA is our monthly lunchtime networking event held on the second Monday of each month.&nbsp\; This month we will be hosted by Sonny&#39\;s BBQ in Oviedo!
LOCATION:Sonny's BBQ 7460 Dover Garden Ln.\, Oviedo off of Red Bug Lake Rd.
UID:e.1204.44101
SEQUENCE:3
DTSTAMP:20260421T111130Z
URL:https://business.owsrcc.org/events/details/owsba-oviedo-winter-springs-business-alliance-44101
END:VEVENT

END:VCALENDAR
