BEGIN:VCALENDAR
VERSION:2.0
PRODID:-//ChamberMaster//Event Calendar 2.0//EN
METHOD:PUBLISH
X-PUBLISHED-TTL:P3D
REFRESH-INTERVAL:P3D
CALSCALE:GREGORIAN
BEGIN:VEVENT
DTSTART:20240408T153000Z
DTEND:20240408T170000Z
X-MICROSOFT-CDO-ALLDAYEVENT:FALSE
SUMMARY:OWSBA-Oviedo-Winter Springs Business Alliance
DESCRIPTION:OWSBA - Oviedo Winter Springs Business Alliance is a lunch-time networking event with guest speaker opportunities.  Locations rotate throughout our communities. This month we will have a catered lunch from Slam Dunk Sandwiches at The Chamber Office.
X-ALT-DESC;FMTTYPE=text/html:OWSBA - Oviedo Winter Springs Business Alliance is a lunch-time networking event with guest speaker opportunities.&nbsp\; Locations rotate throughout our communities. This month we will have a catered lunch from Slam Dunk Sandwiches at The Chamber Office.
LOCATION:Chamber Offices at 1511 E. State Rd. 434 in Winter Springs Suite 1009 Near the 434/417 intersection
UID:e.1204.44084
SEQUENCE:3
DTSTAMP:20260421T081646Z
URL:https://business.owsrcc.org/events/details/owsba-oviedo-winter-springs-business-alliance-44084
END:VEVENT

END:VCALENDAR
