BEGIN:VCALENDAR
VERSION:2.0
PRODID:-//ChamberMaster//Event Calendar 2.0//EN
METHOD:PUBLISH
X-PUBLISHED-TTL:P3D
REFRESH-INTERVAL:P3D
CALSCALE:GREGORIAN
BEGIN:VEVENT
DTSTART:20240212T163000Z
DTEND:20240212T180000Z
X-MICROSOFT-CDO-ALLDAYEVENT:FALSE
SUMMARY:OWSBA-Oviedo-Winter Springs Business Alliance
DESCRIPTION:Lunchtime networking with guest speaker at Tabla Indian Restaurant.\n\nDelicious buffet available for $15.00
X-ALT-DESC;FMTTYPE=text/html:Lunchtime networking with guest speaker at Tabla Indian Restaurant.<br />\nDelicious buffet available for $15.00
LOCATION:Tabla Indian Restaurant 945 City Plaza Way\, Oviedo Oviedo on the Park
UID:e.1204.42859
SEQUENCE:3
DTSTAMP:20260421T125644Z
URL:https://business.owsrcc.org/events/details/owsba-oviedo-winter-springs-business-alliance-42859
END:VEVENT

END:VCALENDAR
