BEGIN:VCALENDAR
VERSION:2.0
PRODID:-//ChamberMaster//Event Calendar 2.0//EN
METHOD:PUBLISH
X-PUBLISHED-TTL:P3D
REFRESH-INTERVAL:P3D
CALSCALE:GREGORIAN
BEGIN:VEVENT
DTSTART:20240108T163000Z
DTEND:20240108T180000Z
X-MICROSOFT-CDO-ALLDAYEVENT:FALSE
SUMMARY:OWSBA-Oviedo-Winter Springs Business Alliance
DESCRIPTION:Lunchtime networking with guest speaker at rotating locations.\n\nJanuary 8\, 2024 will be at Stefano's Trattoria
X-ALT-DESC;FMTTYPE=text/html:Lunchtime networking with guest speaker at rotating locations.<br />\nJanuary 8\, 2024 will be at Stefano&#39\;s Trattoria
LOCATION:Stefano's Trattoria 1425 Tuskawilla Rd. Winter Springs FL 32708
UID:e.1204.42856
SEQUENCE:3
DTSTAMP:20260421T125615Z
URL:https://business.owsrcc.org/events/details/owsba-oviedo-winter-springs-business-alliance-42856
END:VEVENT

END:VCALENDAR
