BEGIN:VCALENDAR
VERSION:2.0
PRODID:-//ChamberMaster//Event Calendar 2.0//EN
METHOD:PUBLISH
X-PUBLISHED-TTL:P3D
REFRESH-INTERVAL:P3D
CALSCALE:GREGORIAN
BEGIN:VEVENT
DTSTART:20240215T140000Z
DTEND:20240215T150000Z
X-MICROSOFT-CDO-ALLDAYEVENT:FALSE
SUMMARY:OWS Coffee Hour & Ribbon-Cutting
DESCRIPTION:Join us for our Monthly Coffee Hour at the new CFS Coffee in Oviedo!  We also will be cutting the ribbon on this brand new place!  Coffee for the soul!
X-ALT-DESC;FMTTYPE=text/html:Join us for our Monthly Coffee Hour at the new CFS Coffee in Oviedo!&nbsp\; We also will be cutting the ribbon on this brand new place!&nbsp\; Coffee for the soul!
LOCATION:CFS Coffee 222 E. Mitchell Hammock Rd\, Oviedo\, at The Ellington Apartments
UID:e.1204.43200
SEQUENCE:3
DTSTAMP:20260421T112734Z
URL:https://business.owsrcc.org/events/details/ows-coffee-hour-ribbon-cutting-43200
END:VEVENT

END:VCALENDAR
