BEGIN:VCALENDAR
VERSION:2.0
PRODID:-//ChamberMaster//Event Calendar 2.0//EN
METHOD:PUBLISH
X-PUBLISHED-TTL:P3D
REFRESH-INTERVAL:P3D
CALSCALE:GREGORIAN
BEGIN:VEVENT
DTSTART:20241114T140000Z
DTEND:20241114T150000Z
X-MICROSOFT-CDO-ALLDAYEVENT:FALSE
SUMMARY:OWS Coffee Hour
DESCRIPTION:Join us for our Monthly Coffee Hour at rotating locations in Oviedo & Winter Springs!
X-ALT-DESC;FMTTYPE=text/html:Join us for our Monthly Coffee Hour at rotating locations in Oviedo &amp\; Winter Springs!&nbsp\;
LOCATION:D'Amico & Sons 1170 Oviedo Mall Boulevard\, Oviedo\, FL 32765
UID:e.1204.44632
SEQUENCE:3
DTSTAMP:20260420T194842Z
URL:https://business.owsrcc.org/events/details/ows-coffee-hour-44632
END:VEVENT

END:VCALENDAR
