BEGIN:VCALENDAR
VERSION:2.0
PRODID:-//ChamberMaster//Event Calendar 2.0//EN
METHOD:PUBLISH
X-PUBLISHED-TTL:P3D
REFRESH-INTERVAL:P3D
CALSCALE:GREGORIAN
BEGIN:VEVENT
DTSTART:20241016T130000Z
DTEND:20241016T140000Z
X-MICROSOFT-CDO-ALLDAYEVENT:FALSE
SUMMARY:OWS Coffee Hour
DESCRIPTION:Join us for our Monthly Coffee Hour at rotating locations in Oviedo & Winter Springs! \n\nThis month we are at The Donut Patch in Oviedo!
X-ALT-DESC;FMTTYPE=text/html:Join us for our Monthly Coffee Hour at rotating locations in Oviedo &amp\; Winter Springs!&nbsp\;<br />\nThis month we are at The Donut Patch in Oviedo!
LOCATION:The Donut Patch 1333 W. Broadway St.\, Oviedo
UID:e.1204.44628
SEQUENCE:3
DTSTAMP:20260420T194858Z
URL:https://business.owsrcc.org/events/details/ows-coffee-hour-44628
END:VEVENT

END:VCALENDAR
