BEGIN:VCALENDAR
VERSION:2.0
PRODID:-//ChamberMaster//Event Calendar 2.0//EN
METHOD:PUBLISH
X-PUBLISHED-TTL:P3D
REFRESH-INTERVAL:P3D
CALSCALE:GREGORIAN
BEGIN:VEVENT
DTSTART:20240924T130000Z
DTEND:20240924T140000Z
X-MICROSOFT-CDO-ALLDAYEVENT:FALSE
SUMMARY:OWS Coffee Hour
DESCRIPTION:Join us for our Monthly Coffee Hour at rotating locations in Oviedo & Winter Springs!  September's location is Kava Culture Kava Bar in Winter Springs!
X-ALT-DESC;FMTTYPE=text/html:Join us for our Monthly Coffee Hour at rotating locations in Oviedo &amp\; Winter Springs!&nbsp\; September&#39\;s location is Kava Culture Kava Bar in Winter Springs!
LOCATION:Kava Culture Kava Bar 1174 Tree Swallow Dr.\, Winter Springs (near Publix)
UID:e.1204.44572
SEQUENCE:3
DTSTAMP:20260420T231142Z
URL:https://business.owsrcc.org/events/details/ows-coffee-hour-44572
END:VEVENT

END:VCALENDAR
