BEGIN:VCALENDAR
VERSION:2.0
PRODID:-//ChamberMaster//Event Calendar 2.0//EN
METHOD:PUBLISH
X-PUBLISHED-TTL:P3D
REFRESH-INTERVAL:P3D
CALSCALE:GREGORIAN
BEGIN:VEVENT
DTSTART:20230921T130000Z
DTEND:20230921T140000Z
X-MICROSOFT-CDO-ALLDAYEVENT:FALSE
SUMMARY:OWS Coffee Hour
DESCRIPTION:Join us this morning for our OWS Coffee Hour. A place to network\, share advice\, all over a nice cup of coffee! Hosted by your Chamber staff\, come meet us at different member businesses!  This month we celebrate at the brand-new Phoebe's Homemade Ice Cream & Cafe!
X-ALT-DESC;FMTTYPE=text/html:<span style="font-size:14px\;">Join us this morning for our OWS Coffee Hour. A place to network\, share advice\, all over a nice cup of coffee! Hosted by your Chamber staff\, come meet us at different member businesses!&nbsp\; This month we celebrate at the brand-new Phoebe&#39\;s Homemade Ice Cream &amp\; Cafe!</span>
LOCATION:Phoebe's Homemade Ice Cream & Cafe 1954 W. State Rd. 426 Oviedo\, FL 32765 (Near Cavallari Gourmet)
UID:e.1204.41497
SEQUENCE:3
DTSTAMP:20260422T031458Z
URL:https://business.owsrcc.org/events/details/ows-coffee-hour-41497
END:VEVENT

END:VCALENDAR
