BEGIN:VCALENDAR
VERSION:2.0
PRODID:-//ChamberMaster//Event Calendar 2.0//EN
METHOD:PUBLISH
X-PUBLISHED-TTL:P3D
REFRESH-INTERVAL:P3D
CALSCALE:GREGORIAN
BEGIN:VEVENT
DTSTART:20240118T140000Z
DTEND:20240118T153000Z
X-MICROSOFT-CDO-ALLDAYEVENT:FALSE
SUMMARY:OWS Coffee Hour
DESCRIPTION:Members & Prospective Members welcome for our Monthly Coffee Hour!  January 18 event will be at Madison at Oviedo\, hosted by member Sara Rodriguez of Benefits of Aging.   One of our Chamber's best networking opportunities - come meet Sara\, as well as the staff of Madison at Oviedo!
X-ALT-DESC;FMTTYPE=text/html:Members &amp\; Prospective Members welcome for our Monthly Coffee Hour!&nbsp\; January 18 event will be at Madison at Oviedo\, hosted by member Sara Rodriguez of Benefits of Aging.&nbsp\; &nbsp\;One of our Chamber&#39\;s best networking opportunities - come meet Sara\, as well as the staff of Madison at Oviedo!<br />\n&nbsp\;
LOCATION:Madison at Oviedo Assisted Living 1725 Pine Bark Point\, Oviedo
UID:e.1204.43198
SEQUENCE:3
DTSTAMP:20260421T125012Z
URL:https://business.owsrcc.org/events/details/ows-coffee-hour-01-18-2024-43198
END:VEVENT

END:VCALENDAR
