BEGIN:VCALENDAR
VERSION:2.0
PRODID:-//ChamberMaster//Event Calendar 2.0//EN
METHOD:PUBLISH
X-PUBLISHED-TTL:P3D
REFRESH-INTERVAL:P3D
CALSCALE:GREGORIAN
BEGIN:VEVENT
DTSTART:20240430T230000Z
DTEND:20240501T000000Z
X-MICROSOFT-CDO-ALLDAYEVENT:FALSE
SUMMARY:Oviedo-Winter Springs Lions Club Meet & Greet
DESCRIPTION:Dessert with a Lion Discover opportunities to serve our community and learn about our mission to make a positive impact. Connect with fellow residents\, explore volunteer options\, and enjoy dessert and light refreshments (soda\, wine\, and beer available for purchase) Don't miss out - RSVP now! Doors Open at 6:30 P.M. Location: Twin Rivers Golf Club Grill RSVP: https://www.eventbrite.com/e/oviedo-winter-springs-lions-club-meet-greet-tickets-867065625627?aff=oddtdtcreator Any questions\, owslions@gmail.com https://www.eventbrite.com/e/oviedo-winter-springs-lions-club-meet-greet-tickets-867065625627?aff=oddtdtcreator
X-ALT-DESC;FMTTYPE=text/html:Dessert with a Lion Discover opportunities to serve our community and learn about our mission to make a positive impact. Connect with fellow residents\, explore volunteer options\, and enjoy dessert and light refreshments (soda\, wine\, and beer available for purchase) Don&#39\;t miss out - RSVP now! Doors Open at 6:30 P.M. Location: Twin Rivers Golf Club Grill RSVP: https://www.eventbrite.com/e/oviedo-winter-springs-lions-club-meet-greet-tickets-867065625627?aff=oddtdtcreator Any questions\, owslions@gmail.com https://www.eventbrite.com/e/oviedo-winter-springs-lions-club-meet-greet-tickets-867065625627?aff=oddtdtcreator
LOCATION:Twin Rivers Golf Club Grill\, 2100 Ekana Dr\, Oviedo\, FL 32765
UID:e.1204.44110
SEQUENCE:3
DTSTAMP:20260421T100028Z
URL:https://business.owsrcc.org/events/details/oviedo-winter-springs-lions-club-meet-greet-44110
END:VEVENT

END:VCALENDAR
