BEGIN:VCALENDAR
VERSION:2.0
PRODID:-//ChamberMaster//Event Calendar 2.0//EN
METHOD:PUBLISH
X-PUBLISHED-TTL:P3D
REFRESH-INTERVAL:P3D
CALSCALE:GREGORIAN
BEGIN:VEVENT
DTSTART:20231113T163000Z
DTEND:20231113T180000Z
X-MICROSOFT-CDO-ALLDAYEVENT:FALSE
SUMMARY:Oviedo-Winter Springs Business Alliance (OWSBA)
DESCRIPTION:Oviedo-Winter Springs Business Alliance is a non-exclusive networking group of Oviedo-Winter Springs Regional Chamber. We meet once a month so you can network with different business and community leaders\, secure new clients or business partners and meet new people in general. We serve as a general support group for businesses within the area. Every month we'll rotate between Oviedo and Winter Springs.\n\n\n\nDue to the Columbus Day Holiday\, we've moved OWSBA to the 3rd Monday this month. The schedule will resume back to normal in November.
X-ALT-DESC;FMTTYPE=text/html:<span style="font-size:14px\;">Oviedo-Winter Springs Business Alliance is a&nbsp\;non-exclusive networking group of Oviedo-Winter Springs Regional Chamber. We meet once a month so you can network with different business and community leaders\, secure new clients or business partners and meet new people in general. We serve as a general support group for businesses within the area. Every month we&#39\;ll rotate between Oviedo and Winter Springs.<br />\n<br />\nDue to the Columbus Day Holiday\, we&#39\;ve moved OWSBA to the 3rd Monday this month. The schedule will resume back to normal in November.</span>
LOCATION:Rock and Brews Oviedo 7131 Red Bug Lake Rd\, Winter Springs\, FL 32708
UID:e.1204.41509
SEQUENCE:3
DTSTAMP:20260421T233438Z
URL:https://business.owsrcc.org/events/details/oviedo-winter-springs-business-alliance-owsba-41509
END:VEVENT

END:VCALENDAR
