BEGIN:VCALENDAR
VERSION:2.0
PRODID:-//ChamberMaster//Event Calendar 2.0//EN
METHOD:PUBLISH
X-PUBLISHED-TTL:P3D
REFRESH-INTERVAL:P3D
CALSCALE:GREGORIAN
BEGIN:VEVENT
DTSTART:20240209T220000Z
DTEND:20240210T030000Z
X-MICROSOFT-CDO-ALLDAYEVENT:FALSE
SUMMARY:Oviedo Night Market
DESCRIPTION:Searching for a delightful experience for date night or a memorable family outing? Look no further than our beloved Night Market at Oviedo Mall We're thrilled to announce its return\, offering a splendid evening filled with joy and excitement. As the weather cools down\, join us for a vibrant gathering featuring a diverse selection of fresh local produce\, captivating craft items\, delectable ready-to-eat food\, and so much more.\n\nImmerse yourself in the lively atmosphere as you stroll through our Night Market\, discovering unique treasures and savoring the local flavors that abound. Indulge in craft brews that perfectly complement the enchanting ambiance under the twinkling evening stars. It's an outdoor experience like no other!\n\nWhether you're seeking a romantic date night or a memorable family adventure\, our Night Market at Oviedo Mall is the perfect destination. Come and join us for an unforgettable evening\, creating cherished memories amidst a delightful blend of craftsmanship\, delectable food\, and community spirit.
X-ALT-DESC;FMTTYPE=text/html:<p>Searching for a delightful experience for date night or a memorable family outing? Look no further than our beloved Night Market at Oviedo Mall We&#39\;re thrilled to announce its return\, offering a splendid evening filled with joy and excitement. As the weather cools down\, join us for a vibrant gathering featuring a diverse selection of fresh local produce\, captivating craft items\, delectable ready-to-eat food\, and so much more.</p>\n\n<p>Immerse yourself in the lively atmosphere as you stroll through our Night Market\, discovering unique treasures and savoring the local flavors that abound. Indulge in craft brews that perfectly complement the enchanting ambiance under the twinkling evening stars. It&#39\;s an outdoor experience like no other!</p>\n\n<p>Whether you&#39\;re seeking a romantic date night or a memorable family adventure\, our Night Market at Oviedo Mall is the perfect destination. Come and join us for an unforgettable evening\, creating cherished memories amidst a delightful blend of craftsmanship\, delectable food\, and community spirit.</p>\n
LOCATION:Oviedo Mall 1700 Oviedo Mall Blvd Oviedo\, FL 32765
UID:e.1204.43642
SEQUENCE:3
DTSTAMP:20260421T112948Z
URL:https://business.owsrcc.org/events/details/oviedo-night-market-02-09-2024-43642
END:VEVENT

END:VCALENDAR
