BEGIN:VCALENDAR
VERSION:2.0
PRODID:-//ChamberMaster//Event Calendar 2.0//EN
METHOD:PUBLISH
X-PUBLISHED-TTL:P3D
REFRESH-INTERVAL:P3D
CALSCALE:GREGORIAN
BEGIN:VEVENT
DTSTART;VALUE=DATE:20240206
DTEND;VALUE=DATE:20240207
TRANSP:TRANSPARENT
X-MICROSOFT-CDO-ALLDAYEVENT:TRUE
SUMMARY:Oviedo Mall Winter Carnival
DESCRIPTION:Enjoy midway fun for the whole family with rides and games for all ages and deep-fried treats\, sweets and other carnival eats beginning February 1st through February 11th\n\nAdmission and parking are free. Parent/guardian supervision is required for ages 17 and younger.
X-ALT-DESC;FMTTYPE=text/html:<p>Enjoy midway fun for the whole family with rides and games for all ages and deep-fried treats\, sweets and other carnival eats beginning February 1st through February 11th</p>\n\n<p>Admission and parking are free. Parent/guardian supervision is required for ages 17 and younger.</p>\n
LOCATION:Oviedo Mall 1700 Oviedo Mall Blvd Oviedo\, FL 32765
UID:e.1204.43635
SEQUENCE:3
DTSTAMP:20260421T111608Z
URL:https://business.owsrcc.org/events/details/oviedo-mall-winter-carnival-02-06-2024-43635
END:VEVENT

END:VCALENDAR
