BEGIN:VCALENDAR
VERSION:2.0
PRODID:-//ChamberMaster//Event Calendar 2.0//EN
METHOD:PUBLISH
X-PUBLISHED-TTL:P3D
REFRESH-INTERVAL:P3D
CALSCALE:GREGORIAN
BEGIN:VEVENT
DTSTART:20240407T120000Z
DTEND:20240407T150000Z
X-MICROSOFT-CDO-ALLDAYEVENT:FALSE
SUMMARY:Oviedo Chicken Run 5k
DESCRIPTION:Get ready to flap those wings and hit the pavement at Oviedo Mall's inaugural Chicken Run 5K on Sunday\, April 7\, 2024\, starting at 8:00am. This cluck-tastic event invites participants of all ages to join the flock for a morning of fitness\, feathers\, and family fun.
X-ALT-DESC;FMTTYPE=text/html:<span style="color:rgb(33\, 37\, 41)\; font-family:montserrat\,sans-serif\; font-size:16px">Get ready to flap those wings and hit the pavement at Oviedo Mall&#39\;s inaugural Chicken Run 5K on&nbsp\;</span><span style="color:rgb(33\, 37\, 41)\; font-family:montserrat\,sans-serif\; font-size:16px">Sunday\, April 7\, 2024\, starting at 8:00am.&nbsp\;</span><span style="color:rgb(33\, 37\, 41)\; font-family:montserrat\,sans-serif\; font-size:16px">This cluck-tastic event invites participants of all ages to join the flock for a morning of fitness\, feathers\, and family fun.</span>
LOCATION:Oviedo Mall 1700 Oviedo Mall Blvd Oviedo\, FL 32765
UID:e.1204.43629
SEQUENCE:3
DTSTAMP:20260421T124451Z
URL:https://business.owsrcc.org/events/details/oviedo-chicken-run-5k-43629
END:VEVENT

END:VCALENDAR
