BEGIN:VCALENDAR
VERSION:2.0
PRODID:-//ChamberMaster//Event Calendar 2.0//EN
METHOD:PUBLISH
X-PUBLISHED-TTL:P3D
REFRESH-INTERVAL:P3D
CALSCALE:GREGORIAN
BEGIN:VEVENT
DTSTART:20240909T040000Z
DTEND:20240909T180000Z
X-MICROSOFT-CDO-ALLDAYEVENT:FALSE
SUMMARY:Oviedo Bowling Taste of the Holidays!!
DESCRIPTION:The Holidays are just around the corner\, so Oviedo Bowling Center invites you to our exclusive Taste of the Holidays event for you to experience completely FREE how easy & fun it is to have a corporate holiday party at our center. Enjoy our FREE Holiday buffets\, cocktails\, mocktails and bowling while you Network! And if you decide to book your holiday with us you'll get a discount! It's always a good time at Oviedo Bowling Center! We'll see you on the lanes!\n\n(In order to book our Holiday Packages you must have a minimum headcount of 15 people).
X-ALT-DESC;FMTTYPE=text/html:The Holidays are just around the corner\, so Oviedo Bowling Center invites you to our exclusive Taste of the Holidays event for you to experience completely FREE how easy &amp\; fun it is to have a corporate holiday party at our center. Enjoy our FREE Holiday buffets\, cocktails\, mocktails and bowling while you Network! And if you decide to book your holiday with us you&#39\;ll get a discount! It&#39\;s always a good time at Oviedo Bowling Center! We&#39\;ll see you on the lanes!<br />\n(In order to book our Holiday Packages you must have a minimum headcount of 15 people).&nbsp\;
LOCATION:376 E Broadway Street Oviedo Florida 32765
UID:e.1204.44615
SEQUENCE:3
DTSTAMP:20260420T231442Z
URL:https://business.owsrcc.org/events/details/oviedo-bowling-taste-of-the-holidays-44615
END:VEVENT

END:VCALENDAR
