BEGIN:VCALENDAR
VERSION:2.0
PRODID:-//ChamberMaster//Event Calendar 2.0//EN
METHOD:PUBLISH
X-PUBLISHED-TTL:P3D
REFRESH-INTERVAL:P3D
CALSCALE:GREGORIAN
BEGIN:VEVENT
DTSTART:20240414T190000Z
DTEND:20240414T220000Z
X-MICROSOFT-CDO-ALLDAYEVENT:FALSE
SUMMARY:Orlando Valkyries vs San Diego Mojo
DESCRIPTION:Orlando Valkyries vs San Diego Mojo\, April 14th at 3pm\n\n \n\nBuy One Ticket\, Get One Ticket FREE!\n\n \n\nUse the special promo code for all Oviedo/Winter Springs Chamber Members for this upcoming game.\n\nhttps://am.ticketmaster.com/orlandovalkyries/promotional-page?id=MTY1\n\n \n\nFor more information and for all your ticketing needs email: ticketing@orlandovalkyries.com or call: 321-244-4600 ext. 113\n\n \n\nOrlando Valkyries Women's Professional Volleyball\n\n#DigIt!
X-ALT-DESC;FMTTYPE=text/html:&nbsp\;<br />\n<span style="color:#333333"><span style="font-family:arial\,sans-serif"><span style="font-size:10pt">Orlando Valkyries vs San Diego Mojo\, April 14</span></span></span><sup><span style="color:#333333"><span style="font-family:arial\,sans-serif">th</span></span></sup><span style="color:#333333"><span style="font-family:arial\,sans-serif"><span style="font-size:10pt">&nbsp\;at 3pm</span></span></span><br />\n<span style="color:#333333"><span style="font-family:arial\,sans-serif"><span style="font-size:10pt">&nbsp\;<br />\nBuy One Ticket\, Get One Ticket FREE!<br />\n&nbsp\;<br />\nUse the special promo code for all Oviedo/Winter Springs Chamber Members for this upcoming game.<br />\n<a href="https://am.ticketmaster.com/orlandovalkyries/promotional-page?id=MTY1">https://am.ticketmaster.com/orlandovalkyries/promotional-page?id=MTY1</a><br />\n&nbsp\;<br />\nFor more information and for all your ticketing needs email:&nbsp\;</span></span></span><a href="mailto:ticketing@orlandovalkyries.com" title="mailto:ticketing@orlandovalkyries.com"><span style="color:#0086f0"><span style="font-family:arial\,sans-serif"><span style="font-size:10pt">ticketing@orlandovalkyries.com</span></span></span></a><span style="color:#333333"><span style="font-family:arial\,sans-serif"><span style="font-size:10pt">&nbsp\;or call: 321-244-4600 ext. 113</span></span></span><br />\n<span style="color:#333333"><span style="font-family:arial\,sans-serif"><span style="font-size:10pt">&nbsp\;<br />\nOrlando Valkyries Women&rsquo\;s Professional Volleyball<br />\n#DigIt!</span></span></span>
LOCATION:Addition Financial Arena 12777 Gemini Blvd N Orlando\, FL 32816 United States
UID:e.1204.44127
SEQUENCE:3
DTSTAMP:20260421T124522Z
URL:https://business.owsrcc.org/events/details/orlando-valkyries-vs-san-diego-mojo-44127
END:VEVENT

END:VCALENDAR
