BEGIN:VCALENDAR
VERSION:2.0
PRODID:-//ChamberMaster//Event Calendar 2.0//EN
METHOD:PUBLISH
X-PUBLISHED-TTL:P3D
REFRESH-INTERVAL:P3D
CALSCALE:GREGORIAN
BEGIN:VEVENT
DTSTART:20240411T230000Z
DTEND:20240412T020000Z
X-MICROSOFT-CDO-ALLDAYEVENT:FALSE
SUMMARY:Orlando Valkyries vs Grand Rapids Rise
DESCRIPTION:Orlando Valkyries vs Grand Rapids Rise\, April 11th at 7pm\n\n \n\nBuy One Ticket\, Get One Ticket FREE!\n\n \n\nUse the special promo code for all Oviedo/Winter Springs Chamber Members for this upcoming game.\n\nhttps://am.ticketmaster.com/orlandovalkyries/promotional-page?id=MTY1\n\n \n\nFor more information and for all your ticketing needs email: ticketing@orlandovalkyries.com or call: 321-244-4600 ext. 113\n\n \n\nOrlando Valkyries Women's Professional Volleyball\n\n#DigIt!
X-ALT-DESC;FMTTYPE=text/html:Orlando Valkyries vs Grand Rapids Rise\, April 11<sup>th</sup> at 7pm<br />\n&nbsp\;<br />\nBuy One Ticket\, Get One Ticket FREE!<br />\n&nbsp\;<br />\nUse the special promo code for all Oviedo/Winter Springs Chamber Members for this upcoming game.<br />\n<a href="https://am.ticketmaster.com/orlandovalkyries/promotional-page?id=MTY1">https://am.ticketmaster.com/orlandovalkyries/promotional-page?id=MTY1</a><br />\n&nbsp\;<br />\nFor more information and for all your ticketing needs email: <a href="mailto:ticketing@orlandovalkyries.com" style="color:rgb(0\, 134\, 240)\;" title="mailto:ticketing@orlandovalkyries.com">ticketing@orlandovalkyries.com</a> or call: 321-244-4600 ext. 113<br />\n&nbsp\;<br />\nOrlando Valkyries Women&rsquo\;s Professional Volleyball<br />\n#DigIt!
LOCATION:Addition Financial Arena 12777 Gemini Blvd N Orlando\, FL 32816 United States
UID:e.1204.44113
SEQUENCE:3
DTSTAMP:20260421T124532Z
URL:https://business.owsrcc.org/events/details/orlando-valkyries-vs-grand-rapids-rise-44113
END:VEVENT

END:VCALENDAR
