BEGIN:VCALENDAR
VERSION:2.0
PRODID:-//ChamberMaster//Event Calendar 2.0//EN
METHOD:PUBLISH
X-PUBLISHED-TTL:P3D
REFRESH-INTERVAL:P3D
CALSCALE:GREGORIAN
BEGIN:VEVENT
DTSTART:20250215T160000Z
DTEND:20250215T180000Z
X-MICROSOFT-CDO-ALLDAYEVENT:FALSE
SUMMARY:Opera in the Park
DESCRIPTION:Join the City of Oviedo and the OPERA ORLANDO for an enchanting presentation of "Cinderella"\n\nThis event is FREE to the public and a family-friendly event. The children will love the magic of costumes and music presented by Opera Orlando  This program is proudly sponsored by the Oviedo Public Arts Board and will be Saturday\, February 15\, 2025 at 11 a.m.\n\nThe performance will be on the main stage at the Oviedo Amphitheatre and Cultural Center\, 357 Center Lake Lane.\n\nBring a chair or blanket\, snacks or picnic lunch and enjoy the performance from Center Lake Lawn.
X-ALT-DESC;FMTTYPE=text/html:<h2 style="text-align:center">Join the City of Oviedo and the OPERA ORLANDO for an enchanting presentation of &quot\;Cinderella&quot\;</h2>\n\n<p>This event is<strong>&nbsp\;FREE&nbsp\;</strong>to the public and a family-friendly event. The children will love the magic of costumes and music presented by&nbsp\;<a href="https://operaorlando.org/" style="box-sizing: border-box\; color: rgb(112\, 39\, 25)\;">Opera Orlando</a>&nbsp\; This program is proudly sponsored by the Oviedo Public Arts Board and will be&nbsp\;<strong>Saturday\, February 15\, 2025 at 11 a.m.</strong></p>\n\n<p>The performance will be on the main stage at the Oviedo Amphitheatre and Cultural Center\, 357 Center Lake Lane.</p>\n\n<p>Bring a chair or blanket\, snacks or picnic lunch and enjoy the performance from Center Lake Lawn.</p>\n
LOCATION:Oviedo Amphitheatre and Cultural Center - 357 Center Lake Lane\, Oviedo FL 32765
UID:e.1204.45118
SEQUENCE:3
DTSTAMP:20260421T043920Z
URL:https://business.owsrcc.org/events/details/opera-in-the-park-45118
END:VEVENT

END:VCALENDAR
