BEGIN:VCALENDAR
VERSION:2.0
PRODID:-//ChamberMaster//Event Calendar 2.0//EN
METHOD:PUBLISH
X-PUBLISHED-TTL:P3D
REFRESH-INTERVAL:P3D
CALSCALE:GREGORIAN
BEGIN:VEVENT
DTSTART:20241010T210000Z
DTEND:20241011T010000Z
X-MICROSOFT-CDO-ALLDAYEVENT:FALSE
SUMMARY:Noche de Cultura: Celebrating Hispanic Heritage Month
DESCRIPTION:Experience the rich tapestry of Hispanic culture through:\n\n \n\nArt and Decor: Be captivated by the stunning decor and art presentations by Creative Dreams\, adding a splash of creativity and cultural flair to the evening.\n\nMusic: Dance to the infectious beats of DJ Aaron Anthems\, who will keep the energy high and the rhythm moving.\n\nCuisine: Savor a delicious array of cultural dishes that will transport your taste buds straight to Latin America.\n\nRaffles: Participate in exciting raffles for a chance to win amazing prizes and support local businesses.\n\n \n\nWe encourage traditional attire! Wear your cultural clothing for a chance to win a raffle ticket. Celebrate in style at Noche de Cultura. Special guests will be joining us to add a touch of star power to the evening\, making it an event you won't want to miss!\n\n \n\nWhether you're looking to make new professional connections or simply want to indulge in a night of cultural celebration with other business owners like yourself\, Noche de Cultura is the perfect event for you. Come for the networking\, stay for the culture!\n\n \n\n**RSVP now** and be a part of this spectacular celebration!
X-ALT-DESC;FMTTYPE=text/html:<p style="margin: 0px\; padding: 10px 0px 0px\; box-sizing: border-box\; font-size: 16px\; line-height: 1.5rem\; color: rgb(111\, 114\, 135)\;"><span style="color:#000000\;">Experience the rich tapestry of Hispanic culture through:</span></p>\n\n<p style="margin: 0px\; padding: 10px 0px 0px\; box-sizing: border-box\; font-size: 16px\; line-height: 1.5rem\; color: rgb(111\, 114\, 135)\;">&nbsp\;</p>\n\n<p style="margin: 0px\; padding: 10px 0px 0px\; box-sizing: border-box\; font-size: 16px\; line-height: 1.5rem\; color: rgb(111\, 114\, 135)\;"><span style="color:#000000\;"><span style="font-weight: 700\; box-sizing: border-box\; padding-top: 0px\;">Art and Decor</span>: Be captivated by the stunning decor and art presentations by Creative Dreams\, adding a splash of creativity and cultural flair to the evening.</span></p>\n\n<p style="margin: 0px\; padding: 10px 0px 0px\; box-sizing: border-box\; font-size: 16px\; line-height: 1.5rem\; color: rgb(111\, 114\, 135)\;"><span style="color:#000000\;"><span style="font-weight: 700\; box-sizing: border-box\; padding-top: 0px\;">Music</span>: Dance to the infectious beats of DJ Aaron Anthems\, who will keep the energy high and the rhythm moving.</span></p>\n\n<p style="margin: 0px\; padding: 10px 0px 0px\; box-sizing: border-box\; font-size: 16px\; line-height: 1.5rem\; color: rgb(111\, 114\, 135)\;"><span style="color:#000000\;"><span style="font-weight: 700\; box-sizing: border-box\; padding-top: 0px\;">Cuisine</span>: Savor a delicious array of cultural dishes that will transport your taste buds straight to Latin America.</span></p>\n\n<p style="margin: 0px\; padding: 10px 0px 0px\; box-sizing: border-box\; font-size: 16px\; line-height: 1.5rem\; color: rgb(111\, 114\, 135)\;"><span style="color:#000000\;"><span style="font-weight: 700\; box-sizing: border-box\; padding-top: 0px\;">Raffles</span>: Participate in exciting raffles for a chance to win amazing prizes and support local businesses.</span></p>\n\n<p style="margin: 0px\; padding: 10px 0px 0px\; box-sizing: border-box\; font-size: 16px\; line-height: 1.5rem\; color: rgb(111\, 114\, 135)\;">&nbsp\;</p>\n\n<p style="margin: 0px\; padding: 10px 0px 0px\; box-sizing: border-box\; font-size: 16px\; line-height: 1.5rem\; color: rgb(111\, 114\, 135)\;"><span style="color:#000000\;">We encourage traditional attire! Wear your cultural clothing for a chance to win a raffle ticket. Celebrate in style at&nbsp\;<em style="box-sizing: border-box\; padding-top: 0px\;"><span style="font-weight: 700\; box-sizing: border-box\; padding-top: 0px\;">Noche de Cultura</span></em>. Special guests will be joining us to add a touch of star power to the evening\, making it an event you won&rsquo\;t want to miss!</span></p>\n\n<p style="margin: 0px\; padding: 10px 0px 0px\; box-sizing: border-box\; font-size: 16px\; line-height: 1.5rem\; color: rgb(111\, 114\, 135)\;">&nbsp\;</p>\n\n<p style="margin: 0px\; padding: 10px 0px 0px\; box-sizing: border-box\; font-size: 16px\; line-height: 1.5rem\; color: rgb(111\, 114\, 135)\;"><span style="color:#000000\;">Whether you&rsquo\;re looking to make new professional connections or simply want to indulge in a night of cultural celebration with other business owners like yourself\,&nbsp\;<em style="box-sizing: border-box\; padding-top: 0px\;"><span style="font-weight: 700\; box-sizing: border-box\; padding-top: 0px\;">Noche de Cultura</span></em>&nbsp\;is the perfect event for you. Come for the networking\, stay for the culture!</span></p>\n\n<p style="margin: 0px\; padding: 10px 0px 0px\; box-sizing: border-box\; font-size: 16px\; line-height: 1.5rem\; color: rgb(111\, 114\, 135)\;">&nbsp\;</p>\n\n<p style="margin: 0px\; padding: 10px 0px 0px\; box-sizing: border-box\; font-size: 16px\; line-height: 1.5rem\; color: rgb(111\, 114\, 135)\;"><span style="color:#000000\;">**RSVP now** and be a part of this spectacular celebration!</span></p>\n
LOCATION:Boardwalk Bowl 10749 E Colonial Dr\, Orlando\, FL 32817
UID:e.1204.44654
SEQUENCE:3
DTSTAMP:20260420T231444Z
URL:https://business.owsrcc.org/events/details/noche-de-cultura-celebrating-hispanic-heritage-month-44654
END:VEVENT

END:VCALENDAR
