BEGIN:VCALENDAR
VERSION:2.0
PRODID:-//ChamberMaster//Event Calendar 2.0//EN
METHOD:PUBLISH
X-PUBLISHED-TTL:P3D
REFRESH-INTERVAL:P3D
CALSCALE:GREGORIAN
BEGIN:VEVENT
DTSTART:20240829T213000Z
DTEND:20240829T233000Z
X-MICROSOFT-CDO-ALLDAYEVENT:FALSE
SUMMARY:Multi-Chamber Networking Mixer
DESCRIPTION:Join us for our multi-chamber networking event. We're teaming up with the Maitland and Casselberry Chambers for this event. Come join us\, cash bar and small apps!
X-ALT-DESC;FMTTYPE=text/html:<span style="font-size:14px\;">Join us for our multi-chamber networking event. We&#39\;re teaming up with the Maitland and Casselberry Chambers for this event.&nbsp\;<span style="color: rgb(68\, 68\, 68)\; font-family: Questrial\, sans-serif\;">Come join us\, cash bar and small apps!&nbsp\;</span></span>
LOCATION:Oviedo Brewing Company 1280 Oviedo Mall Boulevard #1095 Oviedo\, FL 32765
UID:e.1204.44596
SEQUENCE:3
DTSTAMP:20260421T005759Z
URL:https://business.owsrcc.org/events/details/multi-chamber-networking-mixer-44596
END:VEVENT

END:VCALENDAR
