BEGIN:VCALENDAR
VERSION:2.0
PRODID:-//ChamberMaster//Event Calendar 2.0//EN
METHOD:PUBLISH
X-PUBLISHED-TTL:P3D
REFRESH-INTERVAL:P3D
CALSCALE:GREGORIAN
BEGIN:VEVENT
DTSTART:20240827T213000Z
DTEND:20240827T230000Z
X-MICROSOFT-CDO-ALLDAYEVENT:FALSE
SUMMARY:Multi-Chamber Mixer with Lake Nona Chamber
DESCRIPTION:Join us for a Multi-Chamber Networking Event with the Lake Nona Chamber!  We'll gather at Bar Louie in UCF area!
X-ALT-DESC;FMTTYPE=text/html:Join us for a Multi-Chamber Networking Event with the Lake Nona Chamber!&nbsp\; We&#39\;ll gather at Bar Louie in UCF area!
LOCATION:Bar Louie - Plaza on University 4100 N. Alafaya Trail\, Orlando (Corner of University Blvd. & Alafaya)
UID:e.1204.44577
SEQUENCE:3
DTSTAMP:20260421T025555Z
URL:https://business.owsrcc.org/events/details/multi-chamber-mixer-with-lake-nona-chamber-44577
END:VEVENT

END:VCALENDAR
