BEGIN:VCALENDAR
VERSION:2.0
PRODID:-//ChamberMaster//Event Calendar 2.0//EN
METHOD:PUBLISH
X-PUBLISHED-TTL:P3D
REFRESH-INTERVAL:P3D
CALSCALE:GREGORIAN
BEGIN:VEVENT
DTSTART:20240423T213000Z
DTEND:20240423T233000Z
X-MICROSOFT-CDO-ALLDAYEVENT:FALSE
SUMMARY:Multi-Chamber Mixer with Casselberry & Maitland Chambers
DESCRIPTION:Join us for a Multi-Chamber Networking Event on April 23rd 2024 from 5:30-7:30 pm in Winter Park!
X-ALT-DESC;FMTTYPE=text/html:Join us for a Multi-Chamber Networking Event on April 23rd 2024 from 5:30-7:30 pm in Winter Park!
LOCATION:Hilton Garden Inn 1275 Lee Rd.\, Winter Park
UID:e.1204.44090
SEQUENCE:3
DTSTAMP:20260421T095602Z
URL:https://business.owsrcc.org/events/details/multi-chamber-mixer-with-casselberry-maitland-chambers-44090
END:VEVENT

END:VCALENDAR
