BEGIN:VCALENDAR
VERSION:2.0
PRODID:-//ChamberMaster//Event Calendar 2.0//EN
METHOD:PUBLISH
X-PUBLISHED-TTL:P3D
REFRESH-INTERVAL:P3D
CALSCALE:GREGORIAN
BEGIN:VEVENT
DTSTART:20240123T223000Z
DTEND:20240124T003000Z
X-MICROSOFT-CDO-ALLDAYEVENT:FALSE
SUMMARY:Multi-Chamber Mixer with Casselberry & Maitland Chambers
DESCRIPTION:A great networking opportunity as we join with members of the Maitland and Casselberry Chambers.
X-ALT-DESC;FMTTYPE=text/html:A great networking opportunity as we join with members of the Maitland and Casselberry Chambers.&nbsp\;&nbsp\;
LOCATION:Buffalo Wild Wings 900 FL-436\, Casselberry
UID:e.1204.43212
SEQUENCE:3
DTSTAMP:20260421T141402Z
URL:https://business.owsrcc.org/events/details/multi-chamber-mixer-with-casselberry-maitland-chambers-43212
END:VEVENT

END:VCALENDAR
