BEGIN:VCALENDAR
VERSION:2.0
PRODID:-//ChamberMaster//Event Calendar 2.0//EN
METHOD:PUBLISH
X-PUBLISHED-TTL:P3D
REFRESH-INTERVAL:P3D
CALSCALE:GREGORIAN
BEGIN:VEVENT
DTSTART:20230929T140000Z
DTEND:20230929T200000Z
X-MICROSOFT-CDO-ALLDAYEVENT:FALSE
SUMMARY:Moxie and Money – Women Taking Control Of Their Life And Their Future
DESCRIPTION:Learning through books and courses is great\, but there's nothing quite like a live women's event.\n\nThis event is like none other.\n\nWe will have experts speaking on relevant topics to your life. But\, not only will you get to hear what they have to say\, you will also be able to immediately apply what you've learned through an on-site workshop right after that topic is delivered. This event also gives you an opportunity to network and build relationships with other professionals in Orlando.\n\nJoin us for an amazing women's event that will change the way you see your life and your future!\n\nMoxie And Money   Women Taking Control Of Their Life And Their Future\n\nDate = Friday\, Sept 29\, 2023\n\nTime = 10am   4pm\n\nVenue = Citrus Club Downtown Orlando 255 S Orange Ave Suite 1800\, Orlando\, FL 32801\n\nCost = $147   $197 ($50+ add-on registration for VIP Roundtable Wine & Cheese Tasting & Networking from 5-7 pm)\n\nCharity = A Portion of Proceeds From This Event Will Go To: New Image Youth Center www.newimageyouth.org\n\nThere will be 5 live presentations throughout the day with roundtable discussions\, including lunch. with rotating tables for discussions & workshops\, which will introduce you (the attendee) to 45+ new connections of professional women in your area.\n\nThis is NOT a sales Event   You will not be sold to! There will be No Upsell Presentations. Learning and Growing together through the topics and discussions is the goal.\n\nFull Speaker Line-Up To Be Announced\n\nClick the link below to buy your tickets at the presale price before September 1st!\n\nhttps://ohanainvestmentpartners.com/events/women/\n\n*?You MUST purchase tickets using the link above.
X-ALT-DESC;FMTTYPE=text/html:<p>Learning through books and courses is great\, but there&rsquo\;s nothing quite like a live women&rsquo\;s event.</p>\n\n<p>This event is like none other.</p>\n\n<p>We will have experts speaking on relevant topics to your life. But\, not only will you get to hear what they have to say\, you will also be able to immediately apply what you&rsquo\;ve learned through an on-site workshop right after that topic is delivered. This event also gives you an opportunity to network and build relationships with other professionals in Orlando.</p>\n\n<p>Join us for an amazing women&rsquo\;s event that will change the way you see your life and your future!</p>\n\n<p><strong>Moxie And Money &ndash\; Women Taking Control Of Their Life And Their Future</strong></p>\n\n<p>Date = Friday\, Sept 29\, 2023</p>\n\n<p>Time = 10am &ndash\; 4pm</p>\n\n<p>Venue = Citrus Club Downtown Orlando 255 S Orange Ave Suite 1800\, Orlando\, FL 32801</p>\n\n<p>Cost = $147 &ndash\; $197 ($50+ add-on registration for VIP Roundtable Wine &amp\; Cheese Tasting &amp\; Networking from 5-7 pm)</p>\n\n<p>Charity = A Portion of Proceeds From This Event Will Go To: New Image Youth Center www.newimageyouth.org</p>\n\n<p>There will be 5 live presentations throughout the day with roundtable discussions\, including lunch. with rotating tables for discussions &amp\; workshops\, which will introduce you (the attendee) to 45+ new connections of professional women in your area.</p>\n\n<p><em>This is NOT a sales Event &ndash\; You will not be sold to!</em>&nbsp\;There will be No Upsell Presentations. Learning and Growing together through the topics and discussions is the goal.</p>\n\n<p>Full Speaker Line-Up To Be Announced</p>\n\n<p><span style="font-size:18px"><strong>Click the link below to buy your tickets at the presale price before September 1st!</strong></span></p>\n\n<p><span style="font-size:18px"><a href="https://ohanainvestmentpartners.com/events/women/" rel="nofollow noopener noreferrer" style="background-color: transparent\; text-decoration-line: none\; color: rgb(54\, 89\, 227)\; cursor: pointer\; box-sizing: border-box\;" target="_blank"><strong>https://ohanainvestmentpartners.com/events/women/</strong></a></span></p>\n\n<p><strong>*?You MUST purchase tickets using the link above.</strong></p>\n
LOCATION:Citrus Club 255 S Orange Ave Suite 1800\, Orlando\, FL 32801
UID:e.1204.42803
SEQUENCE:3
DTSTAMP:20260422T012812Z
URL:https://business.owsrcc.org/events/details/moxie-and-money-women-taking-control-of-their-life-and-their-future-42803
END:VEVENT

END:VCALENDAR
