BEGIN:VCALENDAR
VERSION:2.0
PRODID:-//ChamberMaster//Event Calendar 2.0//EN
METHOD:PUBLISH
X-PUBLISHED-TTL:P3D
REFRESH-INTERVAL:P3D
CALSCALE:GREGORIAN
BEGIN:VEVENT
DTSTART:20250215T170000Z
DTEND:20250215T220000Z
X-MICROSOFT-CDO-ALLDAYEVENT:FALSE
SUMMARY:Mini Makers Market
DESCRIPTION:Where Creativity Meets Kidpreneurs: Oviedo Mall's Mini Makers Market!\n\nDate: Saturday\, February 15\, 2025\n\nTime: 12:00 PM - 5:00 PM\n\nJoin us for a unique and inspiring day celebrating young talent and innovation! The Mini Makers Market is a vibrant vendor expo featuring kidpreneurs (18 and under) showcasing and selling their handmade crafts\, from jewelry and art to other creative treasures.\n\nWhat to Expect:\n\n\n	Explore a marketplace filled with one-of-a-kind\, handcrafted items made by talented young makers.\n	Support and celebrate the creativity and entrepreneurial spirit of kids in our community.\n	Discover vendors specializing in children's arts\, STEM\, and other creativity-inspiring products and services.\n\n\nCalling All Young Makers & Kid-Focused Businesses!\n\n\n	Mini Makers (18 and under): Share your handmade creations with the community! (Items must be handmade by the child\; no reselling\, and a parent must be present during the event.)\n	Kid-Focused Businesses: Do you offer arts\, STEM\, or creative opportunities for kids? Showcase your business at this special event!
X-ALT-DESC;FMTTYPE=text/html:<p>Where Creativity Meets Kidpreneurs: Oviedo Mall&rsquo\;s Mini Makers Market!</p>\n\n<p>Date: Saturday\, February 15\, 2025<br />\nTime: 12:00 PM - 5:00 PM</p>\n\n<p>Join us for a unique and inspiring day celebrating young talent and innovation! The&nbsp\;Mini Makers Market&nbsp\;is a vibrant vendor expo featuring kidpreneurs (18 and under) showcasing and selling their handmade crafts\, from jewelry and art to other creative treasures.</p>\n\n<p>What to Expect:</p>\n\n<ul>\n	<li>Explore a marketplace filled with one-of-a-kind\, handcrafted items made by talented young makers.</li>\n	<li>Support and celebrate the creativity and entrepreneurial spirit of kids in our community.</li>\n	<li>Discover vendors specializing in children&rsquo\;s arts\, STEM\, and other creativity-inspiring products and services.</li>\n</ul>\n\n<p>Calling All Young Makers &amp\; Kid-Focused Businesses!</p>\n\n<ul>\n	<li>Mini Makers (18 and under): Share your handmade creations with the community! (Items must be handmade by the child\; no reselling\, and a parent must be present during the event.)</li>\n	<li>Kid-Focused Businesses: Do you offer arts\, STEM\, or creative opportunities for kids? Showcase your business at this special event!</li>\n</ul>\n
LOCATION:1700 Oviedo Mall Blvd\, Oviedo\, FL 32765
UID:e.1204.45131
SEQUENCE:3
DTSTAMP:20260421T043745Z
URL:https://business.owsrcc.org/events/details/mini-makers-market-45131
END:VEVENT

END:VCALENDAR
