BEGIN:VCALENDAR
VERSION:2.0
PRODID:-//ChamberMaster//Event Calendar 2.0//EN
METHOD:PUBLISH
X-PUBLISHED-TTL:P3D
REFRESH-INTERVAL:P3D
CALSCALE:GREGORIAN
BEGIN:VEVENT
DTSTART:20240201T140000Z
DTEND:20240201T153000Z
X-MICROSOFT-CDO-ALLDAYEVENT:FALSE
SUMMARY:Maximize Your Membership
DESCRIPTION:Interested in learning more about your Chamber\, what's new\, your OWSRCC benefits\, events\, website interactive dashboard & more? Join your Chamber staff and maximize your membership! Enjoy breakfast\, networking & door prizes too!\n\n\n\nThis event is open to all new members\, new reps\, existing and potential members who wish to learn more about YOUR Chamber and how to get the most out of YOUR benefits.
X-ALT-DESC;FMTTYPE=text/html:<span style="font-family:arial\;"><span style="font-size:14px\;">Interested in learning more about your Chamber\, what&#39\;s new\, your OWSRCC benefits\, events\, website interactive dashboard &amp\; more? Join your Chamber staff and maximize your membership! Enjoy breakfast\, networking &amp\; door prizes too!</span><br />\n<br />\n<span style="color: rgb(63\, 63\, 63)\; font-size: 14px\; text-align: center\;">This event&nbsp\;is open to all new members\, new reps\, existing and potential&nbsp\;members who wish&nbsp\;to learn more about YOUR Chamber and how to get the most out of&nbsp\;YOUR benefits.&nbsp\;</span></span><br />\n<br />\n&nbsp\;
LOCATION:Chamber Office 1511 E.State Rd. 434\, Ste. 1009 Winter Springs (near 417 intersection)
UID:e.1204.42862
SEQUENCE:3
DTSTAMP:20260421T112437Z
URL:https://business.owsrcc.org/events/details/maximize-your-membership-42862
END:VEVENT

END:VCALENDAR
