BEGIN:VCALENDAR
VERSION:2.0
PRODID:-//ChamberMaster//Event Calendar 2.0//EN
METHOD:PUBLISH
X-PUBLISHED-TTL:P3D
REFRESH-INTERVAL:P3D
CALSCALE:GREGORIAN
BEGIN:VEVENT
DTSTART:20240115T160000Z
DTEND:20240115T190000Z
X-MICROSOFT-CDO-ALLDAYEVENT:FALSE
SUMMARY:Martin Luther King\, Jr Celebration
DESCRIPTION:Join the City of Oviedo and Oviedo Citizens in Action for a day of celebration for Dr. Martin Luther King Jr. Starting at 10am\, the MLK Day Parade will leave Oviedo High School traveling east on Broadway Street to Round Lake Park. Following the parade will be a family fun day from 11am-2pm at Round Lake Park. There will be fun\, games\, DJ and live entertainment\, vendors\, inflatables for the kids\, food trucks and Basketball Jamboree! WRITSTBANDS FOR INFLATABLES ARE $5 EACH Purchase your Wristband on-site \, cash only For more information visit the city website at cityofoviedo.net\, or call our event hotline at 407-971-5590. If you would like to sponsor this great event any/or any of the many other upcoming programs and events\, please contact Terri Martini at 407-971-5588. Weather permitting. Information subject to change without notice.
X-ALT-DESC;FMTTYPE=text/html:Join the City of Oviedo and Oviedo Citizens in Action for a day of celebration for Dr. Martin Luther King Jr. Starting at 10am\, the MLK Day Parade will leave Oviedo High School traveling east on Broadway Street to Round Lake Park. Following the parade will be a family fun day from 11am-2pm at Round Lake Park. There will be fun\, games\, DJ and live entertainment\, vendors\, inflatables for the kids\, food trucks and Basketball Jamboree! WRITSTBANDS FOR INFLATABLES ARE $5 EACH Purchase your Wristband on-site \, cash only For more information visit the city website at cityofoviedo.net\, or call our event hotline at 407-971-5590. If you would like to sponsor this great event any/or any of the many other upcoming programs and events\, please contact Terri Martini at 407-971-5588. Weather permitting. Information subject to change without notice.
LOCATION:Round Lake Park 891 E. Broadway Street Oviedo\, FL
UID:e.1204.43222
SEQUENCE:3
DTSTAMP:20260421T141544Z
URL:https://business.owsrcc.org/events/details/martin-luther-king-jr-celebration-43222
END:VEVENT

END:VCALENDAR
