BEGIN:VCALENDAR
VERSION:2.0
PRODID:-//ChamberMaster//Event Calendar 2.0//EN
METHOD:PUBLISH
X-PUBLISHED-TTL:P3D
REFRESH-INTERVAL:P3D
CALSCALE:GREGORIAN
BEGIN:VEVENT
DTSTART:20240312T230000Z
DTEND:20240313T003000Z
X-MICROSOFT-CDO-ALLDAYEVENT:FALSE
SUMMARY:Marketing That Works for $0-$500/Month [Beyond Social Media]
DESCRIPTION:Join us for an inspiring virtual event on March 12th with the incredible Stephanie Scheller! \n\n\n\nMoxie and Money is thrilled to host Stephanie\, a successful entrepreneur who doubled her event production company during the pandemic without a marketing budget. Learn from her as she shares her secrets to managing investments wisely and achieving successful marketing on a budget of $0-$500 per month. \n\n\n\nLet's come together as a community of female entrepreneurs to support\, empower\, and rise together. Mark your calendars for this event on Zoom from 7:00p - 8:30p EST and let's showcase the power of women working together!\n\n\n\nSecure your spot now!\n\n\n\nhttps://abhcfl.ac-page.com/moxie-money-march-12-virtual-event
X-ALT-DESC;FMTTYPE=text/html:Join us for an inspiring virtual event on March 12th with the incredible Stephanie Scheller!&nbsp\;<br />\n<br />\nMoxie and Money is thrilled to host Stephanie\, a successful entrepreneur who doubled her event production company during the pandemic without a marketing budget. Learn from her as she shares her secrets to managing investments wisely and achieving successful marketing on a budget of $0-$500 per month.&nbsp\;<br />\n<br />\nLet&#39\;s come together as a community of female entrepreneurs to support\, empower\, and rise together. Mark your calendars for this event on Zoom from 7:00p - 8:30p EST and let&#39\;s showcase the power of women working together!<br />\n<br />\nSecure your spot now!<br />\n<br />\nhttps://abhcfl.ac-page.com/moxie-money-march-12-virtual-event
LOCATION:ZOOM https://abhcfl.ac-page.com/moxie-money-march-12-virtual-event
UID:e.1204.44089
SEQUENCE:3
DTSTAMP:20260421T095850Z
URL:https://business.owsrcc.org/events/details/marketing-that-works-for-0-500-month-beyond-social-media-44089
END:VEVENT

END:VCALENDAR
