BEGIN:VCALENDAR
VERSION:2.0
PRODID:-//ChamberMaster//Event Calendar 2.0//EN
METHOD:PUBLISH
X-PUBLISHED-TTL:P3D
REFRESH-INTERVAL:P3D
CALSCALE:GREGORIAN
BEGIN:VEVENT
DTSTART:20240208T223000Z
DTEND:20240209T010000Z
X-MICROSOFT-CDO-ALLDAYEVENT:FALSE
SUMMARY:Mardi Gras Sip & Shop
DESCRIPTION:Get ready to paint the town purple\, green\, and gold at Oviedo Mall's Mardi Gras Sip & Shop Extravaganza on Thursday\, February 8th\, from 5:30 pm to 8:00 pm! \n\nIndulge in a night of festive flair and fabulous finds as you embark on a culinary adventure with our Food and Wine Stroll around the mall. Sip on delectable wines and savor mouthwatering bites while exploring the heart of Oviedo's shopping scene. \n\nLove is in the air\, and so are the savings! Take advantage of special shopping discounts at your favorite stores\, just in time to find the perfect Valentine's Day gifts for your special someone or treat yourself to a little retail therapy. \n\nBut that's not all   the fun doesn't stop there! We've got exciting giveaways lined up throughout the evening\, ensuring that luck is on your side. Prizes\, surprises\, and a whole lot of Mardi Gras magic await you around every corner.\n\nDress in your most festive Mardi Gras attire   masks\, beads\, and all things glittery are highly encouraged! Our vibrant celebration is sure to lift your spirits and add a splash of color to your midweek routine.\n\nBring your friends\, family\, or your special someone and join us for a night of laughter\, libations\, and lively shopping. Oviedo Mall's Mardi Gras Sip & Shop is the ultimate way to kick off the season of love with style and pizzazz!\n\nMark your calendar for February 8th   this is one party you won't want to miss! Let the good times roll at Oviedo Mall!
X-ALT-DESC;FMTTYPE=text/html:<p>Get ready to paint the town purple\, green\, and gold at Oviedo Mall&#39\;s Mardi Gras Sip &amp\; Shop Extravaganza on Thursday\, February 8th\, from 5:30 pm to 8:00 pm!&nbsp\;</p>\n\n<p>Indulge in a night of festive flair and fabulous finds as you embark on a culinary adventure with our Food and Wine Stroll around the mall. Sip on delectable wines and savor mouthwatering bites while exploring the heart of Oviedo&#39\;s shopping scene.&nbsp\;</p>\n\n<p>Love is in the air\, and so are the savings! Take advantage of special shopping discounts at your favorite stores\, just in time to find the perfect Valentine&#39\;s Day gifts for your special someone or treat yourself to a little retail therapy.&nbsp\;</p>\n\n<p>But that&#39\;s not all &ndash\; the fun doesn&#39\;t stop there! We&#39\;ve got exciting giveaways lined up throughout the evening\, ensuring that luck is on your side. Prizes\, surprises\, and a whole lot of Mardi Gras magic await you around every corner.</p>\n\n<p>Dress in your most festive Mardi Gras attire &ndash\; masks\, beads\, and all things glittery are highly encouraged! Our vibrant celebration is sure to lift your spirits and add a splash of color to your midweek routine.</p>\n\n<p>Bring your friends\, family\, or your special someone and join us for a night of laughter\, libations\, and lively shopping. Oviedo Mall&#39\;s Mardi Gras Sip &amp\; Shop is the ultimate way to kick off the season of love with style and pizzazz!</p>\n\n<p>Mark your calendar for February 8th &ndash\; this is one party you won&#39\;t want to miss! Let the good times roll at Oviedo Mall!</p>\n
LOCATION:Oviedo Mall 1700 Oviedo Mall Blvd Oviedo\, FL 32765
UID:e.1204.43628
SEQUENCE:3
DTSTAMP:20260421T111441Z
URL:https://business.owsrcc.org/events/details/mardi-gras-sip-shop-43628
END:VEVENT

END:VCALENDAR
