BEGIN:VCALENDAR
VERSION:2.0
PRODID:-//ChamberMaster//Event Calendar 2.0//EN
METHOD:PUBLISH
X-PUBLISHED-TTL:P3D
REFRESH-INTERVAL:P3D
CALSCALE:GREGORIAN
BEGIN:VEVENT
DTSTART:20231031T213000Z
DTEND:20231031T230000Z
X-MICROSOFT-CDO-ALLDAYEVENT:FALSE
SUMMARY:Mall-O-Ween Trick or Treating
DESCRIPTION:It's Halloween Time at Oviedo Mall! Join us for our annual Kid Crew Mall-O-Ween Trick or Treat Event\n\nKids 12 and Under are welcome to dress up and hop store to store\, trick or treating from 5:30pm-7:30pm (or while supplies last)!
X-ALT-DESC;FMTTYPE=text/html:<p>It&#39\;s Halloween Time at Oviedo Mall! Join us for our annual Kid Crew Mall-O-Ween Trick or Treat Event</p>\n\n<p>Kids 12 and Under are welcome to dress up and hop store to store\, trick or treating from 5:30pm-7:30pm (or while supplies last)!</p>\n
LOCATION:Oviedo Mall | 1700 Oviedo Mall Blvd\, Oviedo\, FL 32765
UID:e.1204.42814
SEQUENCE:3
DTSTAMP:20260422T000417Z
URL:https://business.owsrcc.org/events/details/mall-o-ween-trick-or-treating-42814
END:VEVENT

END:VCALENDAR
