BEGIN:VCALENDAR
VERSION:2.0
PRODID:-//ChamberMaster//Event Calendar 2.0//EN
METHOD:PUBLISH
X-PUBLISHED-TTL:P3D
REFRESH-INTERVAL:P3D
CALSCALE:GREGORIAN
BEGIN:VEVENT
DTSTART:20241017T153000Z
DTEND:20241017T170000Z
X-MICROSOFT-CDO-ALLDAYEVENT:FALSE
SUMMARY:Lunch Mixer with Michelle Rubiera-Perez at Oviedo YMCA
DESCRIPTION:Michelle Rubiera-Perez\, local Mary Kay beauty advisor\, is partnering with the Oviedo YMCA to bring you this lunchtime mixer!  There are lots of fun & exciting things happening in our community!  Come find out what the buzz is all about!   Learn a bit\, mingle & enjoy lunch from local restaurants. We'll have some delightful giveaways too!
X-ALT-DESC;FMTTYPE=text/html:Michelle Rubiera-Perez\, local Mary Kay beauty advisor\, is partnering with the Oviedo YMCA to bring you this lunchtime mixer!&nbsp\; There are lots of fun &amp\; exciting things happening in our community!&nbsp\; Come find out what the buzz is all about!&nbsp\; &nbsp\;Learn a bit\, mingle &amp\; enjoy lunch from local restaurants. We&#39\;ll have some delightful giveaways too!&nbsp\;
LOCATION:Oviedo YMCA 7900 Red Bug Lake Rd.\, Oviedo
UID:e.1204.44619
SEQUENCE:3
DTSTAMP:20260420T195426Z
URL:https://business.owsrcc.org/events/details/lunch-mixer-with-michelle-rubiera-perez-at-oviedo-ymca-44619
END:VEVENT

END:VCALENDAR
