BEGIN:VCALENDAR
VERSION:2.0
PRODID:-//ChamberMaster//Event Calendar 2.0//EN
METHOD:PUBLISH
X-PUBLISHED-TTL:P3D
REFRESH-INTERVAL:P3D
CALSCALE:GREGORIAN
BEGIN:VEVENT
DTSTART:20240227T230000Z
DTEND:20240228T010000Z
X-MICROSOFT-CDO-ALLDAYEVENT:FALSE
SUMMARY:Love Yourself Love Your Money February Moxie & Money Event
DESCRIPTION:Join us for the February Moxie & Money Event\, Love Yourself Love Your Money!\n\nFebruary's event includes networking\, as always\, and an empowering and informative financial panel designed for female entrepreneurs! Our panel brings together experienced financial professionals\, including a dedicated financial planner and a skilled CPA from within our community\, to provide valuable insights and guidance for your personal and business's financial success.\n\nDuring this exclusive event\, you'll have the opportunity to gain valuable knowledge and strategies to:\n\n\n	Build a strong financial foundation for yourself and your business\n	Implement effective tax planning techniques\n	Navigate tax regulations and optimize your business's financial position\n	Develop a personalized financial plan tailored to your entrepreneurial journey\n	Network with fellow female entrepreneurs and share experiences and insights\n\n\nDon't miss this opportunity to elevate your financial understanding and strengthen your financial future.\n\nReserve your spot today and join us for an enriching discussion that promises to support and empower you in your entrepreneurial journey.\n\nDate: February 27th\, 2024\n\nTime: 6-8pm\n\nLocation: Luke's Kitchen and Bar\, 640 S Orlando Ave\, Maitland\, FL 32751\n\n \n\nWe look forward to welcoming you to this impactful financial panel designed to address the specific needs of female entrepreneurs and our Moxie & money community.
X-ALT-DESC;FMTTYPE=text/html:<p style="margin-left:auto\; margin-right:auto"><strong>Join us for the February Moxie &amp\; Money Event\, Love Yourself Love Your Money!</strong></p>\n\n<p style="margin-left:auto\; margin-right:auto">February&rsquo\;s event includes&nbsp\;<strong>networking</strong>\, as always\, and an&nbsp\;<strong>empowering and informative financial panel designed for female entrepreneurs</strong>! Our panel brings together experienced financial professionals\, including a dedicated financial planner and a skilled CPA from within our community\, to provide valuable insights and guidance for your personal and business&rsquo\;s financial success.</p>\n\n<p style="margin-left:auto\; margin-right:auto">During this exclusive event\, you&rsquo\;ll have the opportunity to gain valuable knowledge and strategies to:</p>\n\n<ul style="margin-left:auto\; margin-right:auto">\n	<li>Build a strong financial foundation for yourself and your business</li>\n	<li>Implement effective tax planning techniques</li>\n	<li>Navigate tax regulations and optimize your business&rsquo\;s financial position</li>\n	<li>Develop a personalized financial plan tailored to your entrepreneurial journey</li>\n	<li>Network with fellow female entrepreneurs and share experiences and insights</li>\n</ul>\n\n<p style="margin-left:auto\; margin-right:auto">Don&rsquo\;t miss this opportunity to elevate your financial understanding and strengthen your financial future.</p>\n\n<p style="margin-left:auto\; margin-right:auto"><strong>Reserve your spot today and join us for an enriching discussion that promises to support and empower you in your entrepreneurial journey.</strong></p>\n\n<p style="margin-left:auto\; margin-right:auto"><strong>Date: February 27th\, 2024</strong></p>\n\n<p style="margin-left:auto\; margin-right:auto"><strong>Time: 6-8pm</strong></p>\n\n<p style="margin-left:auto\; margin-right:auto"><strong>Location: Luke&rsquo\;s Kitchen and Bar\, 640 S Orlando Ave\, Maitland\, FL 32751</strong></p>\n\n<p style="margin-left:auto\; margin-right:auto">&nbsp\;</p>\n\n<p style="margin-left:auto\; margin-right:auto">We look forward to welcoming you to this impactful financial panel designed to address the specific needs of female entrepreneurs and our Moxie &amp\; money community.</p>\n
LOCATION:Luke's Kitchen and Bar\, 640 S Orlando Ave\, Maitland\, FL 32751
UID:e.1204.44068
SEQUENCE:3
DTSTAMP:20260421T125833Z
URL:https://business.owsrcc.org/events/details/love-yourself-love-your-money-february-moxie-money-event-44068
END:VEVENT

END:VCALENDAR
