BEGIN:VCALENDAR
VERSION:2.0
PRODID:-//ChamberMaster//Event Calendar 2.0//EN
METHOD:PUBLISH
X-PUBLISHED-TTL:P3D
REFRESH-INTERVAL:P3D
CALSCALE:GREGORIAN
BEGIN:VEVENT
DTSTART:20240229T223000Z
DTEND:20240301T003000Z
X-MICROSOFT-CDO-ALLDAYEVENT:FALSE
SUMMARY:Leap Day Mixer with Lake Nona Chamber
DESCRIPTION:Join us and celebrate the Leap Year with our friends at the Lake Nona Chamber of Commerce at a local favorite watering hole!
X-ALT-DESC;FMTTYPE=text/html:Join us and celebrate the Leap Year with our friends at the Lake Nona Chamber of Commerce at a local favorite watering hole!
LOCATION:Bar Louie 4100 North Alafaya Trail\, Suite 167 & 173 Orlando\, FL 32826
UID:e.1204.44065
SEQUENCE:3
DTSTAMP:20260421T125300Z
URL:https://business.owsrcc.org/events/details/leap-day-mixer-with-lake-nona-chamber-44065
END:VEVENT

END:VCALENDAR
