BEGIN:VCALENDAR
VERSION:2.0
PRODID:-//ChamberMaster//Event Calendar 2.0//EN
METHOD:PUBLISH
X-PUBLISHED-TTL:P3D
REFRESH-INTERVAL:P3D
CALSCALE:GREGORIAN
BEGIN:VEVENT
DTSTART:20240815T213000Z
DTEND:20240815T230000Z
X-MICROSOFT-CDO-ALLDAYEVENT:FALSE
SUMMARY:Industry Innovators
DESCRIPTION:Join us for networking\, guest speaker & fun at Oviedo Bowling Center!\n\nGuest speaker will be from ProSource covering the latest in cybersecurity.topics.\n\nComplimentary headshots provided by Andrea Ruff Studios.
X-ALT-DESC;FMTTYPE=text/html:Join us for networking\, guest speaker &amp\; fun at Oviedo Bowling Center!<br />\nGuest speaker will be from ProSource covering the latest in cybersecurity.topics.<br />\nComplimentary headshots provided by Andrea Ruff Studios.
LOCATION:Oviedo Bowling Center 376 E. Broadway St.\, Oviedo
UID:e.1204.44576
SEQUENCE:3
DTSTAMP:20260421T005759Z
URL:https://business.owsrcc.org/events/details/industry-innovators-44576
END:VEVENT

END:VCALENDAR
