BEGIN:VCALENDAR
VERSION:2.0
PRODID:-//ChamberMaster//Event Calendar 2.0//EN
METHOD:PUBLISH
X-PUBLISHED-TTL:P3D
REFRESH-INTERVAL:P3D
CALSCALE:GREGORIAN
BEGIN:VEVENT
DTSTART:20240919T213000Z
DTEND:20240919T230000Z
X-MICROSOFT-CDO-ALLDAYEVENT:FALSE
SUMMARY:Industry Innovators
DESCRIPTION:Attendees will have the opportunity to network with like-minded peers\, engage in thought-provoking discussions\, and build valuable connections. The events may also feature keynote speaker who is a leader in their field\, offering insights and perspectives on the latest industry trends and best practices.  Speaker for September 19\, 2024 will be Wayne Bowen PhD/Associate Dean at UCF.  Wayne will discuss the majors & degrees at UCF\, including the Bachelor of General Studies\, a completion degree for those who have started college but encountered roadblocks. Also options for degrees in environmental studies\, leadership & interdisciplinary studies at UCF.\n\n\n\nThis group will meet on the 3rd Thursday of every month from 5:30 - 7:00 pm at varying locations.
X-ALT-DESC;FMTTYPE=text/html:<span style="font-size:14px\;">Attendees will have the opportunity to network with like-minded peers\, engage in thought-provoking discussions\, and build valuable connections. The events may also feature keynote speaker who is a leader in their field\, offering insights and perspectives on the latest industry trends and best practices.&nbsp\; Speaker for September 19\, 2024 will be Wayne Bowen PhD/Associate Dean at UCF.&nbsp\; Wayne will discuss the majors &amp\; degrees at UCF\, including the Bachelor of General Studies\, a completion degree for those who have started college but encountered roadblocks. Also options for degrees in environmental studies\, leadership &amp\; interdisciplinary studies at UCF.<br />\n<br />\nThis group will meet on the 3rd Thursday of every month from 5:30 - 7:00 pm at varying locations.&nbsp\;</span>
LOCATION:Spill Wine Bar 1196 Tree Swallow Dr.\, Winter Springs Town Ctr.
UID:e.1204.44571
SEQUENCE:3
DTSTAMP:20260420T231149Z
URL:https://business.owsrcc.org/events/details/industry-innovators-44571
END:VEVENT

END:VCALENDAR
