BEGIN:VCALENDAR
VERSION:2.0
PRODID:-//ChamberMaster//Event Calendar 2.0//EN
METHOD:PUBLISH
X-PUBLISHED-TTL:P3D
REFRESH-INTERVAL:P3D
CALSCALE:GREGORIAN
BEGIN:VEVENT
DTSTART:20240320T213000Z
DTEND:20240320T230000Z
X-MICROSOFT-CDO-ALLDAYEVENT:FALSE
SUMMARY:Industry Innovators
DESCRIPTION:The next Industry Innovators event is March 20\, 5:30-7pm.  Join us at The Food factory in Oviedo for a fun networking event with an interesting Guest Speaker!  Hannah MacDonald-Dannecker of The Better Together Group will present an interactive discussion of our multi-generational workplaces - including working with Generation Z!  Learn\, make great connections and have a few laughs with us!
X-ALT-DESC;FMTTYPE=text/html:The next Industry Innovators event is March 20\, 5:30-7pm.&nbsp\; Join us at The Food factory in Oviedo for a fun networking event with an interesting Guest Speaker!&nbsp\; Hannah MacDonald-Dannecker of The Better Together Group will present an interactive discussion of our multi-generational workplaces - including working with Generation Z!&nbsp\; Learn\, make great connections and have a few laughs with us!
LOCATION:The Food Factory Oviedo City Walk Lane\, Oviedo on the Park
UID:e.1204.43196
SEQUENCE:3
DTSTAMP:20260421T095231Z
URL:https://business.owsrcc.org/events/details/industry-innovators-43196
END:VEVENT

END:VCALENDAR
