BEGIN:VCALENDAR
VERSION:2.0
PRODID:-//ChamberMaster//Event Calendar 2.0//EN
METHOD:PUBLISH
X-PUBLISHED-TTL:P3D
REFRESH-INTERVAL:P3D
CALSCALE:GREGORIAN
BEGIN:VEVENT
DTSTART:20240117T223000Z
DTEND:20240118T000000Z
X-MICROSOFT-CDO-ALLDAYEVENT:FALSE
SUMMARY:Industry Innovators
DESCRIPTION:Our newest group\, Industry Innovators will bring together ambitious and driven individuals from a variety of industries. Attendees will have the opportunity to network with like-minded peers\, engage in thought-provoking discussions\, and build valuable connections. This month's event will feature entertainment by Missing Link Entertainment.   Overall\, the event promises to be a great way for professionals to collaborate and grow both professionally and personally.\n\n\n\nThis group will meet on the 3rd Wednesday of every month from 5:30 - 7:00 pm at varying restaurants.
X-ALT-DESC;FMTTYPE=text/html:<span style="font-size:14px\;">Our newest group\, Industry Innovators will bring together ambitious and driven individuals from a variety of industries. Attendees will have the opportunity to network with like-minded peers\, engage in thought-provoking discussions\, and build valuable connections. This month&#39\;s event will feature entertainment by Missing Link Entertainment.&nbsp\; &nbsp\;Overall\, the event promises to be a great way for professionals to collaborate and grow both professionally and personally.<br />\n<br />\nThis group will meet on the 3rd Wednesday of every month from 5:30 - 7:00 pm at varying restaurants.&nbsp\;</span>
LOCATION:Black Hammock Restaurant 2316 Black Hammock Fish Camp Rd. Oviedo
UID:e.1204.42858
SEQUENCE:3
DTSTAMP:20260421T125007Z
URL:https://business.owsrcc.org/events/details/industry-innovators-42858
END:VEVENT

END:VCALENDAR
