BEGIN:VCALENDAR
VERSION:2.0
PRODID:-//ChamberMaster//Event Calendar 2.0//EN
METHOD:PUBLISH
X-PUBLISHED-TTL:P3D
REFRESH-INTERVAL:P3D
CALSCALE:GREGORIAN
BEGIN:VEVENT
DTSTART:20240620T213000Z
DTEND:20240621T010000Z
X-MICROSOFT-CDO-ALLDAYEVENT:FALSE
SUMMARY:Improv Comedy Night for HOPE Helps
DESCRIPTION:Join us for an evening of food\, drinks\, and laughter at Oviedo Cultural Center for an Improv Comedy Night. Doors and buffet are open from 5:30PM to 7:00PM. Out of respect to performers\, no entry after 7:15PM. We look forward to seeing you there! Please have your confirmation email (printed or on your mobile device) ready to show at the door. *Performance by "Mama's Comedy Show" *Proceeds benefit HOPE Helps' programs *This event is 21+ *Attire: Cool & Casual *Seating is first come\, first serve *Cash bar: $5 beer and wine *50/50 Raffle - CASH ONLY
X-ALT-DESC;FMTTYPE=text/html:Join us for an evening of food\, drinks\, and laughter at Oviedo Cultural Center for an Improv Comedy Night. Doors and buffet are open from 5:30PM to 7:00PM. Out of respect to performers\, no entry after 7:15PM. We look forward to seeing you there! Please have your confirmation email (printed or on your mobile device) ready to show at the door. *Performance by &quot\;Mama&#39\;s Comedy Show&quot\; *Proceeds benefit HOPE Helps&#39\; programs *This event is 21+ *Attire: Cool &amp\; Casual *Seating is first come\, first serve *Cash bar: $5 beer and wine *50/50 Raffle - CASH ONLY
LOCATION:Oviedo Cultural Center 357 Center Lake Ln\, Oviedo\, FL 32765
UID:e.1204.44360
SEQUENCE:3
DTSTAMP:20260421T043837Z
URL:https://business.owsrcc.org/events/details/improv-comedy-night-for-hope-helps-44360
END:VEVENT

END:VCALENDAR
