BEGIN:VCALENDAR
VERSION:2.0
PRODID:-//ChamberMaster//Event Calendar 2.0//EN
METHOD:PUBLISH
X-PUBLISHED-TTL:P3D
REFRESH-INTERVAL:P3D
CALSCALE:GREGORIAN
BEGIN:VEVENT
DTSTART:20250222T160000Z
DTEND:20250225T000000Z
X-MICROSOFT-CDO-ALLDAYEVENT:FALSE
SUMMARY:Hummus Republic-Grand Opening
DESCRIPTION:The Grand Opening of Hummus Republic at Alafaya Woods is February 22\, 2025!\n\n20% of our sales will go to our local first responders!  Support our local fire department and police!\n\nRibbon cutting ceremony at 4PM on Saturday\, Feb. 22\n\nJojn us at 69 Alafaya Woods Blvd. in Oviedoi
X-ALT-DESC;FMTTYPE=text/html:The Grand Opening of Hummus Republic at Alafaya Woods is February 22\, 2025!<br />\n20% of our sales will go to our local first responders!&nbsp\; Support our local fire department and police!<br />\nRibbon cutting ceremony at 4PM on Saturday\, Feb. 22<br />\nJojn us at 69 Alafaya Woods Blvd. in Oviedoi<br />\n<br />\n<br />\n&nbsp\;
LOCATION:69 Alafaya Woods Blvd. in Oviedo
UID:e.1204.45349
SEQUENCE:3
DTSTAMP:20260421T044201Z
URL:https://business.owsrcc.org/events/details/hummus-republic-grand-opening-45349
END:VEVENT

END:VCALENDAR
