BEGIN:VCALENDAR
VERSION:2.0
PRODID:-//ChamberMaster//Event Calendar 2.0//EN
METHOD:PUBLISH
X-PUBLISHED-TTL:P3D
REFRESH-INTERVAL:P3D
CALSCALE:GREGORIAN
BEGIN:VEVENT
DTSTART:20231028T203000Z
DTEND:20231029T002500Z
X-MICROSOFT-CDO-ALLDAYEVENT:FALSE
SUMMARY:Hometown Harvest
DESCRIPTION:Celebrate autumn with the City of Winter Springs at our 17th annual fall festival\, Hometown Harvest\, presented by Orlando Health. From FREE hayrides to live musical performances\, this event hosts a large collection of fun activities\, including the Winter Springs Got Talent competition! Kids can enjoy bounce houses and fall-themed activities. Winter Springs Police Department will host their National Night Out during the event!\n\n \n\nFor more information about vending and sponsorship opportunities\, email the Events Coordinator at hkirsch@winterspringsfl.org
X-ALT-DESC;FMTTYPE=text/html:<p><span style="font-size:14px"><span style="font-family:arial\,helvetica\,sans-serif"><span style="color:rgb(54\, 54\, 54)">Celebrate autumn with the City of Winter Springs at our 17th annual fall festival\, Hometown Harvest\, presented by Orlando Health. From FREE hayrides to live musical performances\, this event hosts a large collection of fun activities\, including the Winter Springs Got Talent competition! Kids can enjoy bounce houses and fall-themed activities. Winter Springs Police Department will host their National Night Out during the event!</span></span></span><br />\n&nbsp\;</p>\n\n<p><span style="font-size:14px"><span style="font-family:arial\,helvetica\,sans-serif">For more information about vending and sponsorship opportunities\, email the Events Coordinator at&nbsp\;<a href="mailto:hkirsch@winterspringsfl.org" style="text-decoration-line: none\; color: rgb(58\, 115\, 152)\; background: transparent\;">hkirsch@winterspringsfl.org</a></span></span></p>\n
LOCATION:Central Winds Park 1000 Central Winds Dr. Winter Springs\, FL 32708
UID:e.1204.42826
SEQUENCE:3
DTSTAMP:20260421T234654Z
URL:https://business.owsrcc.org/events/details/hometown-harvest-42826
END:VEVENT

END:VCALENDAR
