BEGIN:VCALENDAR
VERSION:2.0
PRODID:-//ChamberMaster//Event Calendar 2.0//EN
METHOD:PUBLISH
X-PUBLISHED-TTL:P3D
REFRESH-INTERVAL:P3D
CALSCALE:GREGORIAN
BEGIN:VEVENT
DTSTART:20241217T223000Z
DTEND:20241218T013000Z
X-MICROSOFT-CDO-ALLDAYEVENT:FALSE
SUMMARY:Holiday Sail-Away Dinner Cruise & Mixer
DESCRIPTION:Join us\, along with members of the Sanford Chamber\, for a special cruise aboard the Barbara-Lee!  Enjoy a delicious dinner featuring salmon\, chicken or veggie lasagna\, beverages\, music\, entertainment & lots of  Holiday fun with the St. John's Rivership Company.
X-ALT-DESC;FMTTYPE=text/html:Join us\, along with members of the Sanford Chamber\, for a special cruise aboard the Barbara-Lee!&nbsp\; Enjoy a delicious dinner featuring salmon\, chicken or veggie lasagna\, beverages\, music\, entertainment &amp\; lots of&nbsp\; Holiday fun with the St. John&#39\;s Rivership Company.
LOCATION:433 N. Palmetto Ave\, Sanford
UID:e.1204.44670
SEQUENCE:3
DTSTAMP:20260421T025554Z
URL:https://business.owsrcc.org/events/details/holiday-sail-away-dinner-cruise-mixer-44670
END:VEVENT

END:VCALENDAR
