BEGIN:VCALENDAR
VERSION:2.0
PRODID:-//ChamberMaster//Event Calendar 2.0//EN
METHOD:PUBLISH
X-PUBLISHED-TTL:P3D
REFRESH-INTERVAL:P3D
CALSCALE:GREGORIAN
BEGIN:VEVENT
DTSTART:20241201T000000Z
DTEND:20241201T030000Z
X-MICROSOFT-CDO-ALLDAYEVENT:FALSE
SUMMARY:Holiday in the Cities Pub Crawl - Oviedo
DESCRIPTION:Introducing our Holiday in the Cities Pub Crawl! Join us on a festive tour of 3 local favs in Oviedo. There will be door prizes\, an ugly sweater contest\, and a 50/50 to kick off the holiday season! At the end of the night\, we'll be picking a winner for the ugly sweater contest at Oviedo Park Pub promptly at 10 pm.\n\n \n\nTinsletown Sponsorships are available for $250. As a sponsor\, your logo will be prominent on all promotions\, social media\, eblasts\, and venue promotions.
X-ALT-DESC;FMTTYPE=text/html:<p style="margin: 0px\; padding: 0px\; color: rgb(62\, 62\, 62)\; font-family: Arial\, Verdana\, Helvetica\, sans-serif\; font-size: 14px\; white-space-collapse: preserve\; background-color: rgb(255\, 255\, 255)\;"><span style="color: rgb(25\, 25\, 25)\;">Introducing our Holiday in the Cities Pub Crawl! Join us on a festive tour of 3 local favs in Oviedo. There will be door prizes\, an ugly sweater contest\, and a 50/50 to kick off the holiday season!</span><span style="color: rgb(0\, 0\, 0)\;"> At the end of the night\, we&#39\;ll be picking a winner for the ugly sweater contest at Oviedo Park Pub promptly at 10 pm.</span></p>\n\n<p style="margin: 0px\; padding: 0px\; color: rgb(62\, 62\, 62)\; font-family: Arial\, Verdana\, Helvetica\, sans-serif\; font-size: 14px\; white-space-collapse: preserve\; background-color: rgb(255\, 255\, 255)\;">&nbsp\;</p>\n\n<p style="margin: 0px\; padding: 0px\; color: rgb(62\, 62\, 62)\; font-family: Arial\, Verdana\, Helvetica\, sans-serif\; font-size: 14px\; white-space-collapse: preserve\; background-color: rgb(255\, 255\, 255)\;"><span style="color: rgb(0\, 0\, 0)\; font-weight: bold\;">Tinsletown Sponsorships are available for $250. As a sponsor\, your logo will be prominent on all promotions\, social media\, eblasts\, and venue promotions.</span></p>\n
LOCATION:Pub Crawl Locations in Winter Springs Marlow's Tavern Crazy Cork Wine Bar Oviedo Park Pub
UID:e.1204.44657
SEQUENCE:3
DTSTAMP:20260420T195120Z
URL:https://business.owsrcc.org/events/details/holiday-in-the-cities-pub-crawl-oviedo-44657
END:VEVENT

END:VCALENDAR
