BEGIN:VCALENDAR
VERSION:2.0
PRODID:-//ChamberMaster//Event Calendar 2.0//EN
METHOD:PUBLISH
X-PUBLISHED-TTL:P3D
REFRESH-INTERVAL:P3D
CALSCALE:GREGORIAN
BEGIN:VEVENT
DTSTART:20240206T050000Z
DTEND:20240213T045500Z
X-MICROSOFT-CDO-ALLDAYEVENT:FALSE
SUMMARY:Heart for Change!
DESCRIPTION:In 2023\, the homeless population in Orange and Seminole counties combined was less than 2\,000 people*\, but nearly\n\n1 million of our neighbors are living on the brink of falling into homelessness. \n\nWho are these 1 million people?\n\nThey are the hardworking people of every occupation\, religious belief\, color\, and gender that are underserved\, and unseen in our community. They are financially vulnerable households facing record breaking\, cost-of-living pressures that have created income shortfalls that put them in danger of losing everything. \n\nWhat can we do to help them?\n\nChristian HELP offers a way for your next-door neighbor\, a colleague at work\, your cousin\, or any number of people that you might never guess are on the brink of disaster\, to avoid a life-changing financial crisis.\n\nWe create opportunities for people to increase their income\, reduce their expenses\, and manage their money better\, and we've been doing it for 31 years with results that change the lives of people.\n\n \n\nGive with your HEART at www.christianhelp.org/heartforchange!
X-ALT-DESC;FMTTYPE=text/html:<p>In 2023\, the homeless population in Orange and Seminole counties combined was&nbsp\;<u>less than 2\,000 people*</u>\, but&nbsp\;<strong>nearly<br />\n1 million of our neighbors are living on the brink of falling into homelessness.&nbsp\;</strong></p>\n\n<p>Who are these 1 million people?</p>\n\n<p>They are the hardworking people of every occupation\, religious belief\, color\, and gender that are underserved\, and unseen in our community.&nbsp\;<strong>They are financially vulnerable households facing record breaking\, cost-of-living pressures that have created income shortfalls that put them in danger of losing everything.&nbsp\;</strong></p>\n\n<p>What can we do to help them?</p>\n\n<p>Christian HELP offers a way for your next-door neighbor\, a colleague at work\, your cousin\, or any number of people that you might never guess are on the brink of disaster\, to avoid a life-changing financial crisis.</p>\n\n<p><strong>We create opportunities for people to increase their income\, reduce their expenses\, and manage their money better\, and we&rsquo\;ve been doing it for 31 years with results that change the lives of people.</strong></p>\n\n<p>&nbsp\;</p>\n\n<p><strong>Give with your HEART at www.christianhelp.org/heartforchange!</strong></p>\n
LOCATION:Donate online at www.christianhelp.org/heartforchange or mail checks payable to Christian HELP at: 450 Seminola Blvd.\, Casselberry\, FL 32707
UID:e.1204.44070
SEQUENCE:3
DTSTAMP:20260421T110617Z
URL:https://business.owsrcc.org/events/details/heart-for-change-44070
END:VEVENT

END:VCALENDAR
