BEGIN:VCALENDAR
VERSION:2.0
PRODID:-//ChamberMaster//Event Calendar 2.0//EN
METHOD:PUBLISH
X-PUBLISHED-TTL:P3D
REFRESH-INTERVAL:P3D
CALSCALE:GREGORIAN
BEGIN:VEVENT
DTSTART:20240824T140000Z
DTEND:20240824T170000Z
X-MICROSOFT-CDO-ALLDAYEVENT:FALSE
SUMMARY:Healthy Families Day!
DESCRIPTION:Healthy Families Day will Have activities and experiences that cater to every member of the family\, promoting wellness and learning through various events for all ages to participate and enjoy together.
X-ALT-DESC;FMTTYPE=text/html:Healthy Families Day will Have activities and experiences that cater to every member of the family\, promoting wellness and learning through various events for all ages to participate and enjoy together.
LOCATION:Oviedo YMCA
UID:e.1204.44598
SEQUENCE:3
DTSTAMP:20260421T010005Z
URL:https://business.owsrcc.org/events/details/healthy-families-day-44598
END:VEVENT

END:VCALENDAR
