BEGIN:VCALENDAR
VERSION:2.0
PRODID:-//ChamberMaster//Event Calendar 2.0//EN
METHOD:PUBLISH
X-PUBLISHED-TTL:P3D
REFRESH-INTERVAL:P3D
CALSCALE:GREGORIAN
BEGIN:VEVENT
DTSTART:20241030T220000Z
DTEND:20241031T003000Z
X-MICROSOFT-CDO-ALLDAYEVENT:FALSE
SUMMARY:Halloween Lottery Party and Day of the Dead Bash
DESCRIPTION:Join us for the 3rd Annual Halloween Lottery and Day of the Dead Bash. Have you ever wanted to host one of our monthly networking events? Now's your chance.\n\n\n\nAt the event\, you'll be able to place your business card in the bucket for a chance to win either a Coffee Hour or CA5! At the end of the night\, we'll be picking a winner for each event.\n\n\n\nEnjoy delicious treats\, door prizes\, and a costume contest with entertainment by DJ Matt Leiva. Break out your best costume and join us for a scary good time that you won't want to miss.
X-ALT-DESC;FMTTYPE=text/html:<div style="color: rgb(0\, 0\, 0)\;"><span style="font-size:14px\;">Join us for the 3rd Annual Halloween Lottery and Day of the Dead Bash. Have you ever wanted to host one of our monthly networking events? Now&#39\;s your chance.<br />\n<br />\nAt the event\, you&#39\;ll be able to place your business card in the bucket&nbsp\;for a chance to win either a Coffee Hour or CA5! At the end of the night\, we&#39\;ll be picking a winner for each event.<br />\n<br />\nEnjoy delicious treats\, door prizes\, and a costume contest with entertainment by DJ Matt Leiva. Break out your best costume and join us for a scary good time that you won&#39\;t want to miss.</span></div>\n
LOCATION:Baldwin-Fairchild Oviedo Funeral Home 501 East Mitchell Hammock Rd. Oviedo\, FL 32765
UID:e.1204.44640
SEQUENCE:3
DTSTAMP:20260420T195313Z
URL:https://business.owsrcc.org/events/details/halloween-lottery-party-and-day-of-the-dead-bash-44640
END:VEVENT

END:VCALENDAR
